BEGIN:VCALENDAR
VERSION:2.0
PRODID:-//thespirituniversity.com&#039;s Website - ECPv6.15.11//NONSGML v1.0//EN
CALSCALE:GREGORIAN
METHOD:PUBLISH
X-WR-CALNAME:thespirituniversity.com&#039;s Website
X-ORIGINAL-URL:https://thespirituniversity.com
X-WR-CALDESC:Events for thespirituniversity.com&#039;s Website
REFRESH-INTERVAL;VALUE=DURATION:PT1H
X-Robots-Tag:noindex
X-PUBLISHED-TTL:PT1H
BEGIN:VTIMEZONE
TZID:America/New_York
BEGIN:DAYLIGHT
TZOFFSETFROM:-0500
TZOFFSETTO:-0400
TZNAME:EDT
DTSTART:20250309T070000
END:DAYLIGHT
BEGIN:STANDARD
TZOFFSETFROM:-0400
TZOFFSETTO:-0500
TZNAME:EST
DTSTART:20251102T060000
END:STANDARD
BEGIN:DAYLIGHT
TZOFFSETFROM:-0500
TZOFFSETTO:-0400
TZNAME:EDT
DTSTART:20260308T070000
END:DAYLIGHT
BEGIN:STANDARD
TZOFFSETFROM:-0400
TZOFFSETTO:-0500
TZNAME:EST
DTSTART:20261101T060000
END:STANDARD
BEGIN:DAYLIGHT
TZOFFSETFROM:-0500
TZOFFSETTO:-0400
TZNAME:EDT
DTSTART:20270314T070000
END:DAYLIGHT
BEGIN:STANDARD
TZOFFSETFROM:-0400
TZOFFSETTO:-0500
TZNAME:EST
DTSTART:20271107T060000
END:STANDARD
END:VTIMEZONE
BEGIN:VEVENT
DTSTART;TZID=America/New_York:20260418T110000
DTEND;TZID=America/New_York:20260418T120000
DTSTAMP:20260420T060043
CREATED:20251224T032355Z
LAST-MODIFIED:20260319T173652Z
UID:10033730-1776510000-1776513600@thespirituniversity.com
SUMMARY:Sacred Sound Healing
DESCRIPTION:A Transformative Journey of Vibration\, Clarity\, and Inner Peace  \n✨ Feel Aligned. Feel Free. Feel Transformed.Step into a soul-soothing soundscape designed to clear your energy\, calm your mind\, and reconnect you with your inner harmony. This in-person experience blends ancient sound tools with modern healing techniques—offering you a full-body reset unlike anything you’ve felt before. \n🔔 What Awaits You: \n\nChakra Activation: Begin with the rhythmic shake of rattles to awaken and open your energy centers.\nSound Immersion: Sink into the sacred pulse of the buffalo drum\, the deep hum of Himalayan bowls\, the celestial tones of chimes\, and the clarity of healing bells.\nHands-On Healing: Karen works directly with each participant\, using sacred instruments on the body for personalized energetic clearing.\nSoulful Chanting: Be uplifted through indigenous chants and Karen’s original sound medicine that stirs the soul and awakens spirit.\n\n💫 You May Come Away Feeling: \n\nClear\, calm\, and deeply grounded\nFreed from stress and emotional stagnation\nReconnected to your center—body\, mind\, and spirit\n\nLed by Karen Pauline\, an intuitive and compassionate sound healer with years of experience guiding others to energetic clarity through the sacred language of vibration. \n🌿 No RSVP Needed – Just Show Up and Receive.Come as you are. Leave transformed.
URL:https://thespirituniversity.com/events/sacred-sound-healing-3/2026-04-18/
LOCATION:The Spirit University\, 373 Braden Ave\, Sarasota\, 34243
CATEGORIES:Healing
ATTACH;FMTTYPE=image/jpeg:https://thespirituniversity.com/wp-content/uploads/Sacred-Sound-Healing-2.jpg
END:VEVENT
BEGIN:VEVENT
DTSTART;TZID=America/New_York:20260418T110000
DTEND;TZID=America/New_York:20260418T123000
DTSTAMP:20260420T060043
CREATED:20260325T210803Z
LAST-MODIFIED:20260326T011557Z
UID:10033830-1776510000-1776515400@thespirituniversity.com
SUMMARY:Intuitive Tarot: Go Beyond The Cards 🔮✨
DESCRIPTION:What if the cards you pull… aren’t random at all? \nAnd what if the real magic isn’t memorizing meanings—but learning how to listen to what’s already speaking through you? \nThis is not about keywords.This is not about getting it “right.” \nThis is about stepping into a deeper relationship with Tarot — where the right cards show up… and you understand why. \nIn this experiential and eye-opening class\, you’ll discover how to: \n✨ Allow the right cards to come forward (instead of second-guessing your pull)✨ Recognize when your intuition is speaking—and when your mind is interfering✨ Read beyond traditional meanings and into the story unfolding in front of you✨ Form clear\, meaningful answers using your own natural intuitive abilities✨ Trust what you receive… and deliver it with confidence \nYou may be surprised to realize… you’ve been more intuitive than you thought all along. \nWhether you’re new to Tarot or have been reading for years\, this class opens a doorway into a more natural\, accurate\, and connected way of reading. \nWith Jane Mills \nBring a Tarot deck if you’d like. \nCome curious.Leave trusting yourself. \nIN PERSON – No reservation needed\, simply come.
URL:https://thespirituniversity.com/events/intuitive-tarot-go-beyond-the-cards-%f0%9f%94%ae%e2%9c%a8/
LOCATION:The Spirit University\, 373 Braden Ave\, Sarasota\, 34243
CATEGORIES:Community • Connection • Personal Growth,Exploration & Consciousness,Intuitive & Spiritual Practices,Tarot & Divination,Workshops & Special Events
ATTACH;FMTTYPE=image/jpeg:https://thespirituniversity.com/wp-content/uploads/Intuitive-Tarot.jpg
END:VEVENT
BEGIN:VEVENT
DTSTART;TZID=America/New_York:20260418T110000
DTEND;TZID=America/New_York:20260418T150000
DTSTAMP:20260420T060043
CREATED:20251213T223458Z
LAST-MODIFIED:20260409T211702Z
UID:10033626-1776510000-1776524400@thespirituniversity.com
SUMMARY:﻿Mystic Moments: Psychic Readings • Magical Shopping • Enriching Experiences • Free Gifts
DESCRIPTION:Ready for a little magic\, clarity\, and soul alignment?\nA beloved monthly experience where intuitive insight meets heart-centered connection—and every visit brings something new. \n✨ Get a Reading · 11:00 am – 3:00 pm  BOOK HERE \n🎶 SACRED SOUND HEALING · 11:00 am – 12:00 pmhttps://thespirituniversity.com/events/sacred-sound-healing-3/2026-04-18/ \n🔮 INTUITIVE TAROT: Go Beyond the Cards · 11:00 am – 12:30 pmhttps://thespirituniversity.com/events/intuitive-tarot-go-beyond-the-cards-%f0%9f%94%ae%e2%9c%a8/ \n🦋AWAKEN YOUR INNER KNOWING: From Intuition to Aligned Action · 1:00 pm – 2:30 pmhttps://thespirituniversity.com/events/awaken-your-inner-knowing-from-intuition-to-aligned-action/ \n🛍️ BROWSE OUR MYSTICAL TREASURES BOUTIQUE \nWhether you’re seeking guidance from Spirit\, clarity about life’s next step\, or simply a moment to reconnect with your higher self\, this event offers a peaceful\, welcoming space to receive just what you need. \n🔮 Private Readings:\n15 min – $29 (perfect for quick insight)\n30 min – $49 (includes a free metaphysical gift)\n60 min – $99 (deep and transformational) \n🌟 This Month’s Featured Reader: 11:00 AM to 12:45 PM & 2:30 PM to 3:00 PMJeremy McDonald | Intuitive Guidance\, Energy Clearing\, Transformational CoachingJeremy offers a powerful\, forward-focused experience designed to help you move through what’s holding you back and step into what’s possible. Blending intuitive insight with a range of energy-based techniques\, he gently identifies blocks\, releases old patterns\, and supports you in gaining clarity and momentum. With a grounded\, supportive approach\, Jeremy helps you reconnect with your path and move forward with confidence and purpose. \n\n🌟 This Month’s Featured Reader: 11:00 PM to 3:00 PMKristi Klett | Psychic Medium\, Tarot\, Evidential ConnectionKristi brings a deeply heartfelt and intuitive connection to her work\, offering messages that provide comfort\, clarity\, and meaningful insight. As a clairvoyant\, clairaudient\, and claircognizant medium\, she connects with loved ones in spirit while also offering guidance through psychic and tarot readings. With a compassionate presence shaped by both her nursing background and personal journey\, Kristi creates a space where healing\, understanding\, and connection naturally unfold. \n🌟 Spots are limited and fill quickly—book yours early! Walk-ins are welcome if space allows. \n Reserve Your Reading Now: CLICK HERE \n🎁 Monthly Bonus:\nAll 30-minute or longer readings include a mystical surprise gift\, a crystal\, charm\, or energetic tool chosen to amplify your journey. \n🛍️ While You’re Here:\nBrowse our Mystical Treasures Boutique area\, an enchanting space filled with crystals\, tarot decks\, spiritual tools\, and magical gifts. \n✨ Ideal for first-timers or returning seekers—walk away feeling lighter\, more confident\, and divinely supported.🌙 Let Spirit guide you… one insight at a time.
URL:https://thespirituniversity.com/events/mystic-moments-psychic-readings-magical-shopping-free-gifts-9/
LOCATION:The Spirit University\, 373 Braden Ave\, Sarasota\, 34243
ATTACH;FMTTYPE=image/jpeg:https://thespirituniversity.com/wp-content/uploads/10.jpg
END:VEVENT
BEGIN:VEVENT
DTSTART;TZID=America/New_York:20260418T130000
DTEND;TZID=America/New_York:20260418T143000
DTSTAMP:20260420T060043
CREATED:20260323T190647Z
LAST-MODIFIED:20260415T175432Z
UID:10033823-1776517200-1776522600@thespirituniversity.com
SUMMARY:Awaken Your Inner Knowing: From Intuition to Aligned Action
DESCRIPTION:A Practical & Experiential Journey into Trusting Your Inner Guidance \nThere is a quiet voice within you that already knows. \nIn this empowering and experiential workshop\, you’ll learn how to recognize\, trust\, and act on your intuitive guidance with greater clarity and confidence. Many people receive intuitive impressions—but second-guess\, overthink\, or hesitate when it comes time to act. This class is designed to gently bridge that gap. \nThrough a blend of guided exercises\, personal reflection\, and practical tools\, you’ll begin to understand how your intuition uniquely communicates with you\, and how to move forward with it in everyday life. \nThis is not about becoming something new.It’s about reconnecting with what is already there — and learning to trust it. \nIn this experience\, you will: \n• Discover how intuition speaks through your body\, senses\, and awareness• Learn to recognize and move beyond doubt\, hesitation\, and mental noise• Be guided through an exercise to access your own inner clarity• Gain practical tools to confidently act on your intuitive insights• Strengthen your connection to your inner voice in a grounded\, usable way \nWhether you’re just beginning to explore your intuition or looking to deepen your trust in it\, this workshop offers a supportive space to explore\, experience\, and grow. \nYou’ll leave feeling clearer\, more confident\, and more aligned with your own inner knowing. \nFacilitated by Jeremy E. McDonald \nIN PERSON: No reservation needed — simply come. \nONLINE: JOIN HERE
URL:https://thespirituniversity.com/events/awaken-your-inner-knowing-from-intuition-to-aligned-action/
LOCATION:The Spirit University\, 373 Braden Ave\, Sarasota\, 34243
CATEGORIES:Community • Connection • Personal Growth,Exploration & Consciousness,Intuitive & Spiritual Practices,Workshops & Special Events
ATTACH;FMTTYPE=image/jpeg:https://thespirituniversity.com/wp-content/uploads/E-1.jpg
END:VEVENT
END:VCALENDAR