BEGIN:VCALENDAR
VERSION:2.0
PRODID:-//thespirituniversity.com&#039;s Website - ECPv6.15.11//NONSGML v1.0//EN
CALSCALE:GREGORIAN
METHOD:PUBLISH
X-WR-CALNAME:thespirituniversity.com&#039;s Website
X-ORIGINAL-URL:https://thespirituniversity.com
X-WR-CALDESC:Events for thespirituniversity.com&#039;s Website
REFRESH-INTERVAL;VALUE=DURATION:PT1H
X-Robots-Tag:noindex
X-PUBLISHED-TTL:PT1H
BEGIN:VTIMEZONE
TZID:America/New_York
BEGIN:DAYLIGHT
TZOFFSETFROM:-0500
TZOFFSETTO:-0400
TZNAME:EDT
DTSTART:20250309T070000
END:DAYLIGHT
BEGIN:STANDARD
TZOFFSETFROM:-0400
TZOFFSETTO:-0500
TZNAME:EST
DTSTART:20251102T060000
END:STANDARD
BEGIN:DAYLIGHT
TZOFFSETFROM:-0500
TZOFFSETTO:-0400
TZNAME:EDT
DTSTART:20260308T070000
END:DAYLIGHT
BEGIN:STANDARD
TZOFFSETFROM:-0400
TZOFFSETTO:-0500
TZNAME:EST
DTSTART:20261101T060000
END:STANDARD
BEGIN:DAYLIGHT
TZOFFSETFROM:-0500
TZOFFSETTO:-0400
TZNAME:EDT
DTSTART:20270314T070000
END:DAYLIGHT
BEGIN:STANDARD
TZOFFSETFROM:-0400
TZOFFSETTO:-0500
TZNAME:EST
DTSTART:20271107T060000
END:STANDARD
END:VTIMEZONE
BEGIN:VEVENT
DTSTART;TZID=America/New_York:20260421T190000
DTEND;TZID=America/New_York:20260421T203000
DTSTAMP:20260423T045847
CREATED:20260325T021507Z
LAST-MODIFIED:20260412T185114Z
UID:10033824-1776798000-1776803400@thespirituniversity.com
SUMMARY:Learn\, Practice & Strengthen Your Mediumship
DESCRIPTION:With Victoria Ackerman & Guest Psychic Mediums \nWhat if your intuition is already working… and you just haven’t learned how to recognize it yet? \nJoin Victoria Ackerman and a talented team of psychic mediums for an engaging\, interactive experience where you won’t just learn about intuition—you’ll begin using it. \nThis is a lively\, hands-on event designed to help you explore intuitive abilities and mediumship in a way that feels natural\, approachable\, and genuinely exciting — whether you are just beginning or already deeply developed in your connection. \n✨ A little learning… so you understand what’s happening✨ A little practice… so you can experience it for yourself✨ A lot of discovery… as you begin to trust what you receive \nYou’ll be guided through short\, eye-opening teachings followed by simple\, structured exercises that allow you to immediately apply what you’ve learned—without pressure or expectation. \nWhether you’re brand new\, curious\, or already on your path\, this experience meets you exactly where you are. \nYou may be surprised by what comes through. \n✔ Learn how intuition and mediumship actually work✔ Recognize the subtle ways information comes in✔ Practice in a supportive and encouraging environment✔ Strengthen trust in your own connection \nEach event brings new insights\, new exercises\, and the unique energy of different mediums—so no two experiences are ever quite the same. \nCome curious.Come open.And discover what might already be within you. \nIN PERSON — no reservation needed\, simply come.
URL:https://thespirituniversity.com/events/awaken-your-intuition-learn-practice-experience-mediumship/2026-04-21/
LOCATION:The Spirit University\, 373 Braden Ave\, Sarasota\, 34243
CATEGORIES:Community • Connection • Personal Growth,Exploration & Consciousness,Intuitive & Spiritual Practices,Meditation,Mediumship
ATTACH;FMTTYPE=image/jpeg:https://thespirituniversity.com/wp-content/uploads/Learn-3.jpg
END:VEVENT
END:VCALENDAR