BEGIN:VCALENDAR
VERSION:2.0
PRODID:-//thespirituniversity.com&#039;s Website - ECPv6.15.11//NONSGML v1.0//EN
CALSCALE:GREGORIAN
METHOD:PUBLISH
X-WR-CALNAME:thespirituniversity.com&#039;s Website
X-ORIGINAL-URL:https://thespirituniversity.com
X-WR-CALDESC:Events for thespirituniversity.com&#039;s Website
REFRESH-INTERVAL;VALUE=DURATION:PT1H
X-Robots-Tag:noindex
X-PUBLISHED-TTL:PT1H
BEGIN:VTIMEZONE
TZID:America/New_York
BEGIN:DAYLIGHT
TZOFFSETFROM:-0500
TZOFFSETTO:-0400
TZNAME:EDT
DTSTART:20250309T070000
END:DAYLIGHT
BEGIN:STANDARD
TZOFFSETFROM:-0400
TZOFFSETTO:-0500
TZNAME:EST
DTSTART:20251102T060000
END:STANDARD
BEGIN:DAYLIGHT
TZOFFSETFROM:-0500
TZOFFSETTO:-0400
TZNAME:EDT
DTSTART:20260308T070000
END:DAYLIGHT
BEGIN:STANDARD
TZOFFSETFROM:-0400
TZOFFSETTO:-0500
TZNAME:EST
DTSTART:20261101T060000
END:STANDARD
BEGIN:DAYLIGHT
TZOFFSETFROM:-0500
TZOFFSETTO:-0400
TZNAME:EDT
DTSTART:20270314T070000
END:DAYLIGHT
BEGIN:STANDARD
TZOFFSETFROM:-0400
TZOFFSETTO:-0500
TZNAME:EST
DTSTART:20271107T060000
END:STANDARD
END:VTIMEZONE
BEGIN:VEVENT
DTSTART;TZID=America/New_York:20260204T190000
DTEND;TZID=America/New_York:20260204T203000
DTSTAMP:20260420T060947
CREATED:20251213T215600Z
LAST-MODIFIED:20260224T025815Z
UID:10033485-1770231600-1770237000@thespirituniversity.com
SUMMARY:Wednesday Night Explorers Circle
DESCRIPTION:🧭 An Open Door to Spirit\, Sound\, and Story\nStep into a Wednesday evening unlike any other. \nThe Explorers Circle is a living\, breathing gathering — a place where curiosity leads\, Spirit inspires\, and discovery never ends. No two evenings are ever the same\, yet each one carries the same promise: enrichment\, connection\, and wonder. \n\nWhat Makes Each Evening Unique\nEach week offers something different — from exploring the hidden role of Mary Magdalene\, adjusting to the 5D shift\, or considering UFOs and quantum theories\, to experiencing the healing power of Light Language and sound. \nSome evenings we may sing\, tone\, or chant together. \nOther nights we might explore sound studies or witness demonstrations of healing modalities shared by experienced practitioners. \n\nAn Experience\, Not a Class\nYou may find yourself listening to a storyteller weaving timeless wisdom\, joining lively discussions that gently challenge perspective\, or discovering skills you didn’t know you possessed. \nOne night may be filled with humor and insight.Another may unfold as a deeply moving\, heart-opening experience. \nThis is not a class.It is not a lecture. \nIt is a shared journey where everyone is both student and teacher — and where every question opens a new door. \n\nIn the Explorers Circle\, You May:\n🌍 Experience a wide variety of spiritual practices and perspectives🌍 Engage in open-hearted conversations that stretch the mind and spirit🌍 Explore abilities you may not yet recognize in yourself🌍 Expand into new levels of understanding and awareness \n\nWho This Circle Welcomes\nBring your open mind\, adventurous spirit\, and willingness to explore. \nThis circle is for seekers and storytellers\, healers and listeners\, skeptics and visionaries alike. Together\, we honor both respected wisdom traditions and the insights that rise naturally from within. \n\nYour Invitation\nJoin us each Wednesday and become part of an ongoing adventure into the mysteries of Spirit\, sound\, and story. \nFacilitated by  Spencer Rouse\, with special guest presenters. \nIN PERSON: No reservation needed — simply come.ONLINE: JOIN HERE
URL:https://thespirituniversity.com/events/wednesday-night-explorers-circle-3/2026-02-04/
LOCATION:The Spirit University\, 373 Braden Ave\, Sarasota\, 34243
CATEGORIES:Community • Connection • Personal Growth,Exploration & Consciousness,Healing,Human Design & Self-Discovery
ATTACH;FMTTYPE=image/jpeg:https://thespirituniversity.com/wp-content/uploads/9-fb-orig.jpg
END:VEVENT
BEGIN:VEVENT
DTSTART;TZID=America/New_York:20260205T190000
DTEND;TZID=America/New_York:20260205T203000
DTSTAMP:20260420T060947
CREATED:20251010T201141Z
LAST-MODIFIED:20260209T211112Z
UID:10033769-1770318000-1770323400@thespirituniversity.com
SUMMARY:The Human Design Experiment: A 4-Week Journey of Self-Discovery
DESCRIPTION:What if you were designed this way? \nThis four-week series introduces Human Design — a system that blends ancient wisdom and modern science to reveal how you are uniquely wired to move through life\, make decisions\, and interact with the world. \nThe series begins with an introductory talk\, followed by four weekly sessions that build understanding step by step with practical\, real-life application. \nIntroduction Talk (Jan 22): The Human Design Experiment – What if you were designed this way?An overview of the Human Design system and how it can transform the way you see yourself and others. \nWeek 1 – Understanding the Blueprint:Explore the five energy types and learn how each one is designed to interact with the world. \nWeek 2 – Authority & Decision-Making:Discover your inner compass and how to make aligned choices that reduce resistance and bring more flow into your life. Rescheduled for Feb 12th. \nWeek 3 – Centers\, Profiles & Conditioning:Gain insight into the nine energy centers and how they shape your experience\, as well as profiles and conditioning that influence your life path. \nWeek 4 – Living Your Design:Put it all together with practical tools\, real-life examples\, and guidance to begin embodying your Human Design in daily life. \nWho This Is For\nThis series is open to anyone curious about self-discovery\, alignment\, and understanding how they are designed to operate in the world. No prior knowledge is required. \nFacilitated by Karen Harlee. \nIN PERSON — no reservation needed\, simply come.
URL:https://thespirituniversity.com/events/the-human-design-experiment-a-4-week-journey-of-self-discovery/2026-02-05/
LOCATION:The Spirit University\, 373 Braden Ave\, Sarasota\, 34243
CATEGORIES:Human Design & Self-Discovery
ATTACH;FMTTYPE=image/jpeg:https://thespirituniversity.com/wp-content/uploads/Series-Logo.jpg
END:VEVENT
BEGIN:VEVENT
DTSTART;TZID=America/New_York:20260205T190000
DTEND;TZID=America/New_York:20260205T203000
DTSTAMP:20260420T060947
CREATED:20260205T174029Z
LAST-MODIFIED:20260205T174101Z
UID:10033296-1770318000-1770323400@thespirituniversity.com
SUMMARY:Postponed - The Human Design Experiment: A 4-Week Journey of Self-Discovery
DESCRIPTION:TONIGHT’S HUMAN DESIGN CLASS POSTPONED  2/5/26 \nOut of care for everyone’s health\, tonight’s Human Design class at The Spirit University is postponed. \nKaren has come down with something that’s been going around and doesn’t want to risk getting anyone else sick. We fully support her taking time to rest. \nWe rarely — if ever — cancel events\, but since this is a specialized series\, we don’t have a substitute teacher available for this evening. \nThank you for your understanding and kindness. We’ll share the new date soon. Sending Karen healing thoughts 💜 \n\nWhat if you were designed this way? \nThis four-week series introduces Human Design — a system that blends ancient wisdom and modern science to reveal how you are uniquely wired to move through life\, make decisions\, and interact with the world. \nThe series begins with an introductory talk\, followed by four weekly sessions that build understanding step by step with practical\, real-life application. \nIntroduction Talk (Jan 22): The Human Design Experiment – What if you were designed this way?An overview of the Human Design system and how it can transform the way you see yourself and others. \nWeek 1 – Understanding the Blueprint:Explore the five energy types and learn how each one is designed to interact with the world. \nWeek 2 – Authority & Decision-Making:Discover your inner compass and how to make aligned choices that reduce resistance and bring more flow into your life. \nWeek 3 – Centers\, Profiles & Conditioning:Gain insight into the nine energy centers and how they shape your experience\, as well as profiles and conditioning that influence your life path. \nWeek 4 – Living Your Design:Put it all together with practical tools\, real-life examples\, and guidance to begin embodying your Human Design in daily life. \nWho This Is For\nThis series is open to anyone curious about self-discovery\, alignment\, and understanding how they are designed to operate in the world. No prior knowledge is required. \nFacilitated by Karen Harlee. \nIN PERSON — no reservation needed\, simply come.
URL:https://thespirituniversity.com/events/the-human-design-experiment-a-4-week-journey-of-self-discovery-2/
LOCATION:The Spirit University\, 373 Braden Ave\, Sarasota\, 34243
CATEGORIES:Human Design & Self-Discovery
ATTACH;FMTTYPE=image/jpeg:https://thespirituniversity.com/wp-content/uploads/Series-Logo.jpg
END:VEVENT
BEGIN:VEVENT
DTSTART;TZID=America/New_York:20260207T123000
DTEND;TZID=America/New_York:20260207T143000
DTSTAMP:20260420T060947
CREATED:20260116T220402Z
LAST-MODIFIED:20260204T214857Z
UID:10033763-1770467400-1770474600@thespirituniversity.com
SUMMARY:Speak With Confidence! Feel Comfortable. Speak Naturally.
DESCRIPTION:Public speaking doesn’t have to feel intimidating — and it certainly doesn’t have to feel stiff or performative. This introductory workshop is a relaxed\, encouraging introduction to the basics of speaking in front of a group with greater ease and confidence. \nYou’ll explore simple\, practical steps for preparing a short talk\, organizing your thoughts\, and stepping into a room feeling more grounded and comfortable. We’ll touch on how to read a room\, connect with an audience\, and use voice\, gestures\, props\, and even a bit of humor to support what you’re sharing. The focus is not on perfection\, but on finding your natural rhythm and presence. \nThis session offers a light practicum component in a supportive environment\, giving you a chance to experience what it feels like to speak without pressure. It’s designed as a sampler event — enough to give you helpful tools and confidence\, while allowing you to see whether you’d like to explore this subject more deeply in a future workshop or series. \nPerfect for anyone who teaches\, facilitates\, presents\, or simply wants to feel more at ease speaking in front of others. \nFacilitated by Carol Borsello. \nIN PERSON — no reservation needed\, simply come.
URL:https://thespirituniversity.com/events/make-yourself-comfortable-an-introduction-to-confident-public-speaking/
LOCATION:The Spirit University\, 373 Braden Ave\, Sarasota\, 34243
CATEGORIES:Community • Connection • Personal Growth,Human Design & Self-Discovery,Workshops & Special Events
ATTACH;FMTTYPE=image/jpeg:https://thespirituniversity.com/wp-content/uploads/Make-Yourself-Comfortable-Speaking-2-fb.jpg
END:VEVENT
BEGIN:VEVENT
DTSTART;TZID=America/New_York:20260211T190000
DTEND;TZID=America/New_York:20260211T203000
DTSTAMP:20260420T060947
CREATED:20251213T215600Z
LAST-MODIFIED:20260224T025815Z
UID:10033486-1770836400-1770841800@thespirituniversity.com
SUMMARY:Wednesday Night Explorers Circle
DESCRIPTION:🧭 An Open Door to Spirit\, Sound\, and Story\nStep into a Wednesday evening unlike any other. \nThe Explorers Circle is a living\, breathing gathering — a place where curiosity leads\, Spirit inspires\, and discovery never ends. No two evenings are ever the same\, yet each one carries the same promise: enrichment\, connection\, and wonder. \n\nWhat Makes Each Evening Unique\nEach week offers something different — from exploring the hidden role of Mary Magdalene\, adjusting to the 5D shift\, or considering UFOs and quantum theories\, to experiencing the healing power of Light Language and sound. \nSome evenings we may sing\, tone\, or chant together. \nOther nights we might explore sound studies or witness demonstrations of healing modalities shared by experienced practitioners. \n\nAn Experience\, Not a Class\nYou may find yourself listening to a storyteller weaving timeless wisdom\, joining lively discussions that gently challenge perspective\, or discovering skills you didn’t know you possessed. \nOne night may be filled with humor and insight.Another may unfold as a deeply moving\, heart-opening experience. \nThis is not a class.It is not a lecture. \nIt is a shared journey where everyone is both student and teacher — and where every question opens a new door. \n\nIn the Explorers Circle\, You May:\n🌍 Experience a wide variety of spiritual practices and perspectives🌍 Engage in open-hearted conversations that stretch the mind and spirit🌍 Explore abilities you may not yet recognize in yourself🌍 Expand into new levels of understanding and awareness \n\nWho This Circle Welcomes\nBring your open mind\, adventurous spirit\, and willingness to explore. \nThis circle is for seekers and storytellers\, healers and listeners\, skeptics and visionaries alike. Together\, we honor both respected wisdom traditions and the insights that rise naturally from within. \n\nYour Invitation\nJoin us each Wednesday and become part of an ongoing adventure into the mysteries of Spirit\, sound\, and story. \nFacilitated by  Spencer Rouse\, with special guest presenters. \nIN PERSON: No reservation needed — simply come.ONLINE: JOIN HERE
URL:https://thespirituniversity.com/events/wednesday-night-explorers-circle-3/2026-02-11/
LOCATION:The Spirit University\, 373 Braden Ave\, Sarasota\, 34243
CATEGORIES:Community • Connection • Personal Growth,Exploration & Consciousness,Healing,Human Design & Self-Discovery
ATTACH;FMTTYPE=image/jpeg:https://thespirituniversity.com/wp-content/uploads/9-fb-orig.jpg
END:VEVENT
BEGIN:VEVENT
DTSTART;TZID=America/New_York:20260212T190000
DTEND;TZID=America/New_York:20260212T203000
DTSTAMP:20260420T060947
CREATED:20251010T201141Z
LAST-MODIFIED:20260209T211112Z
UID:10033297-1770922800-1770928200@thespirituniversity.com
SUMMARY:The Human Design Experiment: A 4-Week Journey of Self-Discovery
DESCRIPTION:What if you were designed this way? \nThis four-week series introduces Human Design — a system that blends ancient wisdom and modern science to reveal how you are uniquely wired to move through life\, make decisions\, and interact with the world. \nThe series begins with an introductory talk\, followed by four weekly sessions that build understanding step by step with practical\, real-life application. \nIntroduction Talk (Jan 22): The Human Design Experiment – What if you were designed this way?An overview of the Human Design system and how it can transform the way you see yourself and others. \nWeek 1 – Understanding the Blueprint:Explore the five energy types and learn how each one is designed to interact with the world. \nWeek 2 – Authority & Decision-Making:Discover your inner compass and how to make aligned choices that reduce resistance and bring more flow into your life. Rescheduled for Feb 12th. \nWeek 3 – Centers\, Profiles & Conditioning:Gain insight into the nine energy centers and how they shape your experience\, as well as profiles and conditioning that influence your life path. \nWeek 4 – Living Your Design:Put it all together with practical tools\, real-life examples\, and guidance to begin embodying your Human Design in daily life. \nWho This Is For\nThis series is open to anyone curious about self-discovery\, alignment\, and understanding how they are designed to operate in the world. No prior knowledge is required. \nFacilitated by Karen Harlee. \nIN PERSON — no reservation needed\, simply come.
URL:https://thespirituniversity.com/events/the-human-design-experiment-a-4-week-journey-of-self-discovery/2026-02-12/
LOCATION:The Spirit University\, 373 Braden Ave\, Sarasota\, 34243
CATEGORIES:Human Design & Self-Discovery
ATTACH;FMTTYPE=image/jpeg:https://thespirituniversity.com/wp-content/uploads/Series-Logo.jpg
END:VEVENT
BEGIN:VEVENT
DTSTART;TZID=America/New_York:20260218T190000
DTEND;TZID=America/New_York:20260218T203000
DTSTAMP:20260420T060947
CREATED:20260224T030031Z
LAST-MODIFIED:20260224T030031Z
UID:10033773-1771441200-1771446600@thespirituniversity.com
SUMMARY:Wednesday Night Explorers Circle
DESCRIPTION:🧭 An Open Door to Spirit\, Sound\, and Story\nStep into a Wednesday evening unlike any other. \nThe Explorers Circle is a living\, breathing gathering — a place where curiosity leads\, Spirit inspires\, and discovery never ends. No two evenings are ever the same\, yet each one carries the same promise: enrichment\, connection\, and wonder. \n\nWhat Makes Each Evening Unique\nEach week offers something different — from exploring the hidden role of Mary Magdalene\, adjusting to the 5D shift\, or considering UFOs and quantum theories\, to experiencing the healing power of Light Language and sound. \nSome evenings we may sing\, tone\, or chant together. \nOther nights we might explore sound studies or witness demonstrations of healing modalities shared by experienced practitioners. \n\nAn Experience\, Not a Class\nYou may find yourself listening to a storyteller weaving timeless wisdom\, joining lively discussions that gently challenge perspective\, or discovering skills you didn’t know you possessed. \nOne night may be filled with humor and insight.Another may unfold as a deeply moving\, heart-opening experience. \nThis is not a class.It is not a lecture. \nIt is a shared journey where everyone is both student and teacher — and where every question opens a new door. \n\nIn the Explorers Circle\, You May:\n🌍 Experience a wide variety of spiritual practices and perspectives🌍 Engage in open-hearted conversations that stretch the mind and spirit🌍 Explore abilities you may not yet recognize in yourself🌍 Expand into new levels of understanding and awareness \n\nUpcoming themes include:\n\nLife Reimagined — near-death experience reflections (Lisa Cedrone presenting)\nHistorical and spiritual explorations of Mary Magdalene\nA three-part series on the Subtle Bodies and the Aura\n\n\nWho This Circle Welcomes\nBring your open mind\, adventurous spirit\, and willingness to explore. \nThis circle is for seekers and storytellers\, healers and listeners\, skeptics and visionaries alike. Together\, we honor both respected wisdom traditions and the insights that rise naturally from within. \n\nYour Invitation\nJoin us each Wednesday and become part of an ongoing adventure into the mysteries of Spirit\, sound\, and story. \nFacilitated by  Spencer Rouse\, with special guest presenters. \nIN PERSON: No reservation needed — simply come.ONLINE: JOIN HERE
URL:https://thespirituniversity.com/events/wednesday-night-explorers-circle-3-2/
LOCATION:The Spirit University\, 373 Braden Ave\, Sarasota\, 34243
CATEGORIES:Community • Connection • Personal Growth,Exploration & Consciousness,Healing,Human Design & Self-Discovery
ATTACH;FMTTYPE=image/jpeg:https://thespirituniversity.com/wp-content/uploads/9-fb-orig.jpg
END:VEVENT
BEGIN:VEVENT
DTSTART;TZID=America/New_York:20260219T190000
DTEND;TZID=America/New_York:20260219T203000
DTSTAMP:20260420T060947
CREATED:20251010T201141Z
LAST-MODIFIED:20260209T211112Z
UID:10033298-1771527600-1771533000@thespirituniversity.com
SUMMARY:The Human Design Experiment: A 4-Week Journey of Self-Discovery
DESCRIPTION:What if you were designed this way? \nThis four-week series introduces Human Design — a system that blends ancient wisdom and modern science to reveal how you are uniquely wired to move through life\, make decisions\, and interact with the world. \nThe series begins with an introductory talk\, followed by four weekly sessions that build understanding step by step with practical\, real-life application. \nIntroduction Talk (Jan 22): The Human Design Experiment – What if you were designed this way?An overview of the Human Design system and how it can transform the way you see yourself and others. \nWeek 1 – Understanding the Blueprint:Explore the five energy types and learn how each one is designed to interact with the world. \nWeek 2 – Authority & Decision-Making:Discover your inner compass and how to make aligned choices that reduce resistance and bring more flow into your life. Rescheduled for Feb 12th. \nWeek 3 – Centers\, Profiles & Conditioning:Gain insight into the nine energy centers and how they shape your experience\, as well as profiles and conditioning that influence your life path. \nWeek 4 – Living Your Design:Put it all together with practical tools\, real-life examples\, and guidance to begin embodying your Human Design in daily life. \nWho This Is For\nThis series is open to anyone curious about self-discovery\, alignment\, and understanding how they are designed to operate in the world. No prior knowledge is required. \nFacilitated by Karen Harlee. \nIN PERSON — no reservation needed\, simply come.
URL:https://thespirituniversity.com/events/the-human-design-experiment-a-4-week-journey-of-self-discovery/2026-02-19/
LOCATION:The Spirit University\, 373 Braden Ave\, Sarasota\, 34243
CATEGORIES:Human Design & Self-Discovery
ATTACH;FMTTYPE=image/jpeg:https://thespirituniversity.com/wp-content/uploads/Series-Logo.jpg
END:VEVENT
BEGIN:VEVENT
DTSTART;TZID=America/New_York:20260221T110000
DTEND;TZID=America/New_York:20260221T150000
DTSTAMP:20260420T060947
CREATED:20251213T223305Z
LAST-MODIFIED:20260219T201928Z
UID:10033623-1771671600-1771686000@thespirituniversity.com
SUMMARY:﻿Mystic Moments: Psychic Readings • Magical Shopping • Enriching Experiences • Free Gifts
DESCRIPTION:Ready for a little magic\, clarity\, and soul alignment?\nA beloved monthly experience where intuitive insight meets heart-centered connection—and every visit brings something new. \nSaturday\, February 21 \n✨ Get a Reading · 11:00 am – 3:00 pm  BOOK HERE \n Monthly Meditation · 10:00 am – 11:00 am \n Sacred Sound Healing · 11:00 am – 12:00 pm \n🃏 Tarot Program at The Spirit University I · 11:00 am – 1:00 pm \n👻 Life With Ghosts · 12:00 pm – 1:30 pm \n🔮 Crystal Ball Scrying: Unlock Your Inner Sight · 1:00 pm – 2:30 pm \n🛍️ Browse our Mystical Treasures Boutique \nWhether you’re seeking guidance from Spirit\, clarity about life’s next step\, or simply a moment to reconnect with your higher self\, this event offers a peaceful\, welcoming space to receive just what you need. \n🔮 Private Readings:\n15 min – $29 (perfect for quick insight)\n30 min – $49 (includes a free metaphysical gift)\n60 min – $99 (deep and transformational) \n🌟 Spots are limited and fill quickly—book yours early! Walk-ins are welcome if space allows. \n Reserve Your Reading Now: CLICK HERE \n🎁 Monthly Bonus:\nAll 30-minute or longer readings include a mystical surprise gift\, a crystal\, charm\, or energetic tool chosen to amplify your journey. \n🛍️ While You’re Here:\nBrowse our Mystical Treasures Boutique area\, an enchanting space filled with crystals\, tarot decks\, spiritual tools\, and magical gifts. \n🌟 This Month’s Featured Reader:\nAnneMarie Martins | Medium • Intuitive Channel\nA gifted Medium and Intuitive Channel whose lifelong exploration of energy and consciousness began in childhood. She is a Level 3 QHHT practitioner\, Energy Healer\, and Medium\, with master-level certifications in Intuition Medicine® and Sound Healing\, and decades of study in the interconnected nature of life and spirit. \n This Month’s Featured Reader:\nSuzette Zelt | Conscious Channel • Medium • Oracle Cards\nSuzette has been deeply connected to the angelic realm for more than two decades. Her spiritual journey began after the passing of her father\, opening a profound pathway of communication with angels\, spirit guides\, and loved ones in spirit. Suzette shares uplifting messages of hope\, comfort\, and guidance\, offering intuitive oracle card readings and sometimes a unique channeled letter from your guardian angel created especially for you. \n✨ Ideal for first-timers or returning seekers—walk away feeling lighter\, more confident\, and divinely supported.🌙 Let Spirit guide you… one insight at a time.
URL:https://thespirituniversity.com/events/mystic-moments-psychic-readings-magical-shopping-free-gifts-7/
LOCATION:The Spirit University\, 373 Braden Ave\, Sarasota\, 34243
CATEGORIES:Community • Connection • Personal Growth,Exploration & Consciousness,Healing,Human Design & Self-Discovery,Intuitive & Spiritual Practices,Mediumship,Workshops & Special Events
ATTACH;FMTTYPE=image/jpeg:https://thespirituniversity.com/wp-content/uploads/10.jpg
END:VEVENT
BEGIN:VEVENT
DTSTART;TZID=America/New_York:20260226T190000
DTEND;TZID=America/New_York:20260226T203000
DTSTAMP:20260420T060947
CREATED:20251010T201141Z
LAST-MODIFIED:20260209T211112Z
UID:10033770-1772132400-1772137800@thespirituniversity.com
SUMMARY:The Human Design Experiment: A 4-Week Journey of Self-Discovery
DESCRIPTION:What if you were designed this way? \nThis four-week series introduces Human Design — a system that blends ancient wisdom and modern science to reveal how you are uniquely wired to move through life\, make decisions\, and interact with the world. \nThe series begins with an introductory talk\, followed by four weekly sessions that build understanding step by step with practical\, real-life application. \nIntroduction Talk (Jan 22): The Human Design Experiment – What if you were designed this way?An overview of the Human Design system and how it can transform the way you see yourself and others. \nWeek 1 – Understanding the Blueprint:Explore the five energy types and learn how each one is designed to interact with the world. \nWeek 2 – Authority & Decision-Making:Discover your inner compass and how to make aligned choices that reduce resistance and bring more flow into your life. Rescheduled for Feb 12th. \nWeek 3 – Centers\, Profiles & Conditioning:Gain insight into the nine energy centers and how they shape your experience\, as well as profiles and conditioning that influence your life path. \nWeek 4 – Living Your Design:Put it all together with practical tools\, real-life examples\, and guidance to begin embodying your Human Design in daily life. \nWho This Is For\nThis series is open to anyone curious about self-discovery\, alignment\, and understanding how they are designed to operate in the world. No prior knowledge is required. \nFacilitated by Karen Harlee. \nIN PERSON — no reservation needed\, simply come.
URL:https://thespirituniversity.com/events/the-human-design-experiment-a-4-week-journey-of-self-discovery/2026-02-26/
LOCATION:The Spirit University\, 373 Braden Ave\, Sarasota\, 34243
CATEGORIES:Human Design & Self-Discovery
ATTACH;FMTTYPE=image/jpeg:https://thespirituniversity.com/wp-content/uploads/Series-Logo.jpg
END:VEVENT
END:VCALENDAR