BEGIN:VCALENDAR
VERSION:2.0
PRODID:-//thespirituniversity.com&#039;s Website - ECPv6.15.11//NONSGML v1.0//EN
CALSCALE:GREGORIAN
METHOD:PUBLISH
X-ORIGINAL-URL:https://thespirituniversity.com
X-WR-CALDESC:Events for thespirituniversity.com&#039;s Website
REFRESH-INTERVAL;VALUE=DURATION:PT1H
X-Robots-Tag:noindex
X-PUBLISHED-TTL:PT1H
BEGIN:VTIMEZONE
TZID:America/New_York
BEGIN:DAYLIGHT
TZOFFSETFROM:-0500
TZOFFSETTO:-0400
TZNAME:EDT
DTSTART:20250309T070000
END:DAYLIGHT
BEGIN:STANDARD
TZOFFSETFROM:-0400
TZOFFSETTO:-0500
TZNAME:EST
DTSTART:20251102T060000
END:STANDARD
BEGIN:DAYLIGHT
TZOFFSETFROM:-0500
TZOFFSETTO:-0400
TZNAME:EDT
DTSTART:20260308T070000
END:DAYLIGHT
BEGIN:STANDARD
TZOFFSETFROM:-0400
TZOFFSETTO:-0500
TZNAME:EST
DTSTART:20261101T060000
END:STANDARD
BEGIN:DAYLIGHT
TZOFFSETFROM:-0500
TZOFFSETTO:-0400
TZNAME:EDT
DTSTART:20270314T070000
END:DAYLIGHT
BEGIN:STANDARD
TZOFFSETFROM:-0400
TZOFFSETTO:-0500
TZNAME:EST
DTSTART:20271107T060000
END:STANDARD
END:VTIMEZONE
BEGIN:VEVENT
DTSTART;TZID=America/New_York:20260326T180000
DTEND;TZID=America/New_York:20260326T190000
DTSTAMP:20260420T190928
CREATED:20251224T024318Z
LAST-MODIFIED:20260116T193941Z
UID:10033717-1774548000-1774551600@thespirituniversity.com
SUMMARY:The Gathering Circle  A Spirit University Signature Experience
DESCRIPTION:An Evening of Shared Presence & Meaningful Connection \n\nThere are moments when what we need most is not solitude or insight — but to be seen\, heard\, and held by others who understand. \nIn a world where we’re constantly connected but rarely truly present with one another\, The Gathering Circle offers something increasingly rare: genuine human connection without agenda or performance. This is not networking\, not forced sharing\, not a structured discussion. It’s simply a space where people gather to be authentically present together — and discover the quiet power of being witnessed. \nMany people long for deeper connection but don’t know where to find it outside of therapy or surface-level socializing. The Gathering Circle creates a middle ground: a place where you can show up as you are\, share what feels true\, and experience the relief of being met without judgment or advice. \nWhat This Experience Is\nThe Gathering Circle is a gently facilitated communal space for authentic presence and meaningful exchange. Through simple prompts\, intentional pacing\, and respectful witnessing\, participants have the opportunity to share what’s alive in them — or simply listen and be held by the group. There is no fixing\, no advice-giving\, and no pressure to perform. Just humans being real together. \nThis is not group therapy\, not a workshop\, and not a conversation circle. It’s a carefully held container where connection happens naturally through presence\, not through structure or agenda. \nWho This Is For\nThis experience is ideal for: \n\npeople craving authentic connection beyond small talk\nthose who feel isolated even when surrounded by others\nanyone tired of always having to “have it together”\nseekers who value community without performance\n\nNo experience required. Share as much or as little as feels right. Your presence alone is enough. \nWhat You’ll Experience\nDuring the evening\, you will: \n\narrive to a warm\, welcoming space designed for safety and ease\nsettle into intentional presence with simple opening guidance\nengage with optional prompts that invite authentic sharing\nwitness and be witnessed in a respectful\, non-judgmental container\nclose with grounding so you leave feeling connected and seen\n\nThe focus is on genuine human presence\, not outcomes or answers. What emerges is always exactly what’s needed. \nThe Outcome\nParticipants often leave feeling less alone\, more connected\, and quietly held — with a renewed sense that they can be themselves and still belong. Rather than solving or fixing\, The Gathering Circle creates space for the healing that happens when we’re truly seen. \nThis is for you if: you’re tired of surface-level conversations\, you want to be around others without pretending\, you need to be witnessed without being fixed\, you believe something important happens when humans show up authentically together. \n\nFacilitated by Kristina Smith.   \nATTENDANCE: In person — please arrive a few minutes early to settle in \nA space to be seen\, to witness\, and to remember you’re not alone.
URL:https://thespirituniversity.com/events/the-gathering-circle-a-spirit-university-signature-experience/
LOCATION:The Spirit University\, 373 Braden Ave\, Sarasota\, 34243
CATEGORIES:Community • Connection • Personal Growth,Exploration & Consciousness,Human Design & Self-Discovery,Meditation
ATTACH;FMTTYPE=image/jpeg:https://thespirituniversity.com/wp-content/uploads/Gasthering-Circle-2.jpg
END:VEVENT
BEGIN:VEVENT
DTSTART;TZID=America/New_York:20260328T110000
DTEND;TZID=America/New_York:20260328T150000
DTSTAMP:20260420T190928
CREATED:20260128T194623Z
LAST-MODIFIED:20260328T040852Z
UID:10033765-1774695600-1774710000@thespirituniversity.com
SUMMARY:PSYCHIC FAIR: Through The Looking Glass
DESCRIPTION:A One-Day Experience of Insight\, Curiosity & Discovery\nStep out of the ordinary and experience intuition in a whole new way. \nThrough the Looking Glass is a playful\, immersive Psychic Fair designed to spark insight\, awaken curiosity\, and help you see familiar questions from a fresh perspective. Whether you’re brand new to spiritual exploration or already intuitive\, this event invites you to explore at your own pace — no pressure\, no expectations\, just discovery. \nCreated especially for those who enjoy learning\, reflection\, and meaningful moments that stay with you long after you leave. \nWHAT YOU’LL EXPERIENCE \nThroughout the day\, you can enjoy: \n\nPsychic and intuitive readings with a variety of gifted practitioners\nInteractive themed experiences inspired by mirrors\, symbols\, and perception\nOpen exploration spaces designed for reflection and curiosity\n15-minute mini-talks offered all day — short and engaging\, included with admission\n\nWander freely. Drop into a lecture. Sit for a reading. There is no schedule you must follow and no right way to participate. \nMINI-TALKS THROUGHOUT THE DAY \nThese bite-sized sessions are designed to be approachable\, fascinating\, and practical: \n\nWhat’s the difference between psychic\, intuitive\, and mediumistic perception\nHow symbols and synchronicities show up in everyday life\nWhy timing feels different in intuitive experiences\nHow curiosity strengthens intuition\n\nPerfect for beginners\, skeptics\, and seasoned explorers alike. \nWHO THIS EVENT IS FOR \nThis fair is especially loved by: \n\nCurious newcomers\nSpiritual explorers and lifelong learners\nPeople with questions about intuition and perception\nEmpaths\, intuitives\, and those who feel “there’s more”\n\nNo belief system required. No RSVP needed. Simply come as you are. \nGENERAL ADMISSION — $5\, includes access to ALL Mini-Talks and Workshops throughout the event. \nPSYCHIC READINGS — $25\, 15-minute personal reading sessions. \nCome curious. Leave seeing things a little differently. \n\nStep through the looking glass… and discover what’s been waiting just beyond your awareness. For one fascinating afternoon\, explore intuition\, spirit\, and the unseen world through mini-experiences designed to surprise\, inspire\, and awaken your curiosity. \nMINI TALKS SCHEDULE hosted by Richard Powell \n11:00 am — Rewrite the Story You Thought Was Yours\nWhat if the story you’ve been living… isn’t the only one available to you? Step through the looking glass and discover how to shift your path\, your choices\, and your future into something entirely new. With Deni Dreazen \n11:15 am — Signs from the Other Side\nNot everything is as it seems… and not every coincidence is random. Learn how loved ones in spirit leave breadcrumbs of connection—waiting for you to notice. With Kristi Kleitt \n11:30 am — The Spirit of Service: Meaning\, Intention & Giving BackStep gently into a deeper understanding of what it truly means to serve. Beyond titles or roles\, explore the heart of service — why we feel called to help\, how intention shapes impact\, and the quiet ways we make a difference in the lives of others. With John Maerz \n11:45 am — The Empath Who Felt Too Much\nHave you ever walked into a room and felt everything at once? Discover how to remain centered in a world full of energy—and not lose yourself in the process. With AnneMarie Martins \n12:00 pm — Messages from the Invisible Helpers\nIf you grew very still… you might hear them. Your angels and guides are closer than you think — learn how they whisper\, nudge\, and guide from just beyond the veil. With Karin Strauss \n12:15 pm — Finding Clarity in a Most Uncertain World\nWhen everything feels upside down\, where do you turn? Step into your inner compass and rediscover calm\, clarity\, and direction—even in the unknown. With Alan Manthei \n12:30 pm — Have You Been Here Before?\nStrange familiarity… instant connections… moments that feel remembered rather than lived. Explore the curious clues that suggest your soul has walked other paths before. With Zan Benham \n12:45 pm — What Does It Mean to Be Psychic\, Really?\nIs it magic? Is it imagination? Or is it something far more natural? Pull back the curtain and discover what’s truly happening when perception expands beyond the ordinary. With Alexander Nemo \n1:00 pm — The Art of Creation… and Transformation\nIn this world\, creation is never just creation. Discover how art\, intention\, and expression can shift your energy\, heal your spirit\, and open unseen doors. With Sultania Spirit \n1:15 pm — The Practice of Gratitude: Shifting Perspective & Opening the HeartStep into a gentle yet powerful practice that transforms how you see your life. Explore how gratitude can shift your perspective\, elevate your energy\, and open the heart to more meaningful experiences—often in simple\, unexpected ways. With Jane Mills \n1:30 pm — Crystals\, Shields & Invisible Boundaries\nIn a world of unseen energy\, protection becomes an art of its own. Discover how crystals can help you stay grounded\, clear\, and energetically strong. With Cathy Zapsalis \n1:45 pm — The Simplest Answers Are Often the Truest\nYes… or no? Your heart already knows. Learn how to quiet the noise\, tune inward\, and receive clear guidance you can trust. With Chenylle Mercado \n2:00 pm — Inside the Mind of a Medium\nWhat does it actually feel like to connect with spirit? Step behind the curtain and experience the subtle sensations\, emotions\, and knowing that define true connection. With Kristina Smith \n2:15 pm — Awake Inside the Dream\nWhat if you didn’t have to wake up to realize you were dreaming? Explore lucid dreaming and the hidden worlds that open when awareness expands beyond the physical. With Barbara Harrison \n2:30 pm — Energy Mapping: Discover the Language of Your EnergyYour energy tells a story—are you listening? Learn how to sense\, interpret\, and map the subtle patterns within and around you\, revealing insights that bring clarity\, balance\, and deeper self-awareness. With Kristen Diehl \n2:45 pm — Beyond the End: The Mystery of Resurrection\nWhat if nothing truly ends… but simply transforms? Step into a deeper understanding of life\, death\, and what continues far beyond what we can see. With Richard Powell
URL:https://thespirituniversity.com/events/psychic-fair-through-the-looking-glass/
LOCATION:The Spirit University\, 373 Braden Ave\, Sarasota\, 34243
CATEGORIES:Community • Connection • Personal Growth,Exploration & Consciousness,Healing,Human Design & Self-Discovery,Intuitive & Spiritual Practices,Meditation,Mediumship,Tarot & Divination,Workshops & Special Events
END:VEVENT
BEGIN:VEVENT
DTSTART;TZID=America/New_York:20260516T110000
DTEND;TZID=America/New_York:20260516T150000
DTSTAMP:20260420T190928
CREATED:20260414T184333Z
LAST-MODIFIED:20260414T184442Z
UID:10033955-1778929200-1778943600@thespirituniversity.com
SUMMARY:Mystic Moments: Psychic Readings • Magical Shopping • Enriching Experiences • Free Gifts
DESCRIPTION:Ready for a little magic\, clarity\, and soul alignment?\nA beloved monthly experience where intuitive insight meets heart-centered connection—and every visit brings something new. \n✨ Get a Reading · 11:00 am – 3:00 pm  BOOK HERE \n🥁 The Healing Power of Drumming: Healing for Energy\, Mind & Spirit · 11:00 am – 1:00 pmhttps://thespirituniversity.com/events/the-healing-power-of-drumming-healing-for-energy-mind-spirit/ \n🎨 Coloring with Intent for Self-Healing · 1:00 pm – 3:00 pmhttps://thespirituniversity.com/events/coloring-with-intent-for-self-healing/ \n🛍️ BROWSE OUR MYSTICAL TREASURES BOUTIQUE \nWhether you’re seeking guidance from Spirit\, clarity about life’s next step\, or simply a moment to reconnect with your higher self\, this event offers a peaceful\, welcoming space to receive just what you need. \n🔮 Private Readings:\n15 min – $29 (perfect for quick insight)\n30 min – $49 (includes a free metaphysical gift)\n60 min – $99 (deep and transformational) \n🌟 This Month’s Featured Reader: 11:00 AM to 3:00 PMAlexander Nemo | Intuitive Psychic\, Medical Intuitive & Energy Work \nAlexander offers a deeply insightful and transformative experience\, drawing on over 40 years of intuitive and metaphysical practice. A skilled Tarot reader\, clairvoyant\, aura reader\, and medical intuitive of sorts\, his sessions bring forward meaningful insight\, energetic awareness\, and occasional connections with loved ones in spirit. \nBlending intuitive guidance with past life insight and energy work\, Alexander helps uncover patterns\, release blocks\, and restore balance. With a grounded\, thoughtful approach\, he supports you in gaining clarity\, reconnecting with your path\, and moving forward with greater confidence. \n🌟 Spots are limited and fill quickly—book yours early! Walk-ins are welcome if space allows. \n Reserve Your Reading Now: CLICK HERE
URL:https://thespirituniversity.com/events/mystic-moments-psychic-readings-magical-shopping-enriching-experiences-free-gifts/
LOCATION:The Spirit University\, 373 Braden Ave\, Sarasota\, 34243
CATEGORIES:Community • Connection • Personal Growth,Creative & Art,Exploration & Consciousness,Healing,Human Design & Self-Discovery,Intuitive & Spiritual Practices,Meditation,Tarot & Divination
ATTACH;FMTTYPE=image/jpeg:https://thespirituniversity.com/wp-content/uploads/10-1.jpg
END:VEVENT
END:VCALENDAR