BEGIN:VCALENDAR
VERSION:2.0
PRODID:-//thespirituniversity.com&#039;s Website - ECPv6.15.11//NONSGML v1.0//EN
CALSCALE:GREGORIAN
METHOD:PUBLISH
X-ORIGINAL-URL:https://thespirituniversity.com
X-WR-CALDESC:Events for thespirituniversity.com&#039;s Website
REFRESH-INTERVAL;VALUE=DURATION:PT1H
X-Robots-Tag:noindex
X-PUBLISHED-TTL:PT1H
BEGIN:VTIMEZONE
TZID:America/New_York
BEGIN:DAYLIGHT
TZOFFSETFROM:-0500
TZOFFSETTO:-0400
TZNAME:EDT
DTSTART:20250309T070000
END:DAYLIGHT
BEGIN:STANDARD
TZOFFSETFROM:-0400
TZOFFSETTO:-0500
TZNAME:EST
DTSTART:20251102T060000
END:STANDARD
BEGIN:DAYLIGHT
TZOFFSETFROM:-0500
TZOFFSETTO:-0400
TZNAME:EDT
DTSTART:20260308T070000
END:DAYLIGHT
BEGIN:STANDARD
TZOFFSETFROM:-0400
TZOFFSETTO:-0500
TZNAME:EST
DTSTART:20261101T060000
END:STANDARD
BEGIN:DAYLIGHT
TZOFFSETFROM:-0500
TZOFFSETTO:-0400
TZNAME:EDT
DTSTART:20270314T070000
END:DAYLIGHT
BEGIN:STANDARD
TZOFFSETFROM:-0400
TZOFFSETTO:-0500
TZNAME:EST
DTSTART:20271107T060000
END:STANDARD
END:VTIMEZONE
BEGIN:VEVENT
DTSTART;TZID=America/New_York:20260425T110000
DTEND;TZID=America/New_York:20260425T140000
DTSTAMP:20260425T211354
CREATED:20260217T222728Z
LAST-MODIFIED:20260420T213131Z
UID:10033780-1777114800-1777125600@thespirituniversity.com
SUMMARY:Sixth Sense: A Mediumship Fair
DESCRIPTION:There are moments in life when something gently calls for your attention… A feeling\, a knowing\, a quiet sense that there is more than what we see.  Sixth Sense: A Mediumship Fair is a thoughtfully curated experience designed to open that doorway\, inviting you into a day of insight\, connection\, and meaningful exploration. \n\n. \n👉 BOOK YOUR READER IN ADVANCE — MEET THEM HERE\nTake a moment to explore our gifted intuitive and evidential mediumship readers.You may feel naturally drawn to one—trust that connection. \n\n🔮 RECEIVE A READING\nSit with gifted intuitive and mediumship readers and receive personal insight\, guidance\, and connection \n🎤 ENJOY MINI TALKS ALL DAY\nShort\, fascinating 15-minute talks to expand your awareness and understanding \n✨ EXPERIENCE SOMETHING DIFFERENT\nA warm\, welcoming space… and a few unexpected surprises along the way \nThroughout the day\, you’ll have the opportunity to connect with gifted intuitive and evidential mediumship readers offering personal sessions that bring clarity\, comfort\, and perspective. Whether you are seeking guidance\, reassurance\, or simply a deeper understanding\, each interaction is an opportunity to experience something truly special. \nIn addition\, a series of 15-minute mini talks and interactive experiences will be offered throughout the day. These short\, engaging sessions are designed to expand your awareness\, answer common questions\, and provide insight into the many ways intuition and spirit communication can unfold. \nThis is not a rushed or overwhelming event. Instead\, it is a welcoming and relaxed environment where you are invited to move at your own pace—exploring what resonates most with you\, taking time to reflect\, and allowing the experience to naturally unfold. \nAlong the way\, you may encounter a few unexpected moments of surprise and delight — subtle touches that make the day even more memorable. \nWhether you are new to this world or have been walking your path for years\, this experience meets you exactly where you are. \nYou may leave with clarity.\nYou may leave with comfort.\nYou may leave with a deeper sense of connection. \nOr perhaps\, you’ll simply leave feeling more open\, inspired\, and in tune with yourself. \n$5 Admission includes ALL Mini Talks\, $20 for 15 min Readings \nIn person — no reservation needed\, simply come. \nCome curious… and discover what unfolds. \n\nMINI TALKS SCHEDULE\n11:00 AM — BEGINNING THE CONVERSATION: AN INTRODUCTION TO MEDIUMSHIP\nStep into the world of Spirit communication and discover how connection truly begins. With Kathy Hoffmann \n11:15 AM — HEALING THROUGH CONNECTION: MEDIUMSHIP FOR GRIEF SUPPORT\nExperience how messages from Spirit can bring comfort\, peace\, and a sense of continued love.\nWith Jenny Letizia \n11:30 AM — MEET YOUR ANGEL HELPERS: GUIDANCE FROM THE OTHER SIDE\nDiscover the loving presence of your angelic helpers and how they support\, guide\, and uplift you every day. With Karin Strauss \n11:45 AM — BEYOND WORDS: ANIMAL COMMUNICATION IN MEDIUMSHIP\nExplore the soulful connection between humans and animals—both here and in Spirit. With Sarah Hollenhorst \n12:00 PM — SPIRIT AND STONE: MEDIUMSHIP WITH CRYSTAL ENERGY\nLearn how crystals can support\, amplify\, and refine your connection with Spirit. With Cathy Zapsalis \n12:15 PM — THE SACRED PATTERN: MEDIUMSHIP AND SACRED GEOMETRY\nDiscover the hidden patterns and universal designs that may shape Spirit communication. With Kristina Smith \n12:30 pm — THE QUANTUM CONNECTION: MEDIUMSHIP AND THE NATURE OF REALITY\nWhere science meets Spirit—explore how connection may extend beyond the physical world. With Robin O’Hara \n12:45 pm — SEEN AND UNSEEN: GHOSTS AND MEDIUMSHIP\nExplore the difference between Spirit presence\, earthbound energy\, and true mediumistic connection. With Barbara Harrison \n1:00 pm — INTRO TO THE SPIRIT WORLD: OPENING THE DOOR TO CONNECTION\nCurious about the Spirit world? Discover how connection begins\, what to expect\, and how Spirit may already be reaching out to you. With Nancy Luby \n1:15 pm — MAGNETIC MESSAGES: HOW ENERGY ATTRACTS SPIRIT CONNECTIONS\nWhat’s your energy drawing in? Learn how alignment enhances clearer\, more joyful communication. With Alan Manthei \n1:30 pm — MEET YOUR SPIRIT GUIDES: WHO THEY ARE & HOW THEY HELP\nWho’s walking beside you behind the veil? Learn how to connect and receive their wisdom and support. With Jane Mills \n1:45 pm — MESSAGES IN UNEXPECTED WAYS: SPIRIT OUTSIDE THE BOX\nNot every message comes as expected—explore the surprising\, humorous\, and unconventional ways Spirit connects. With Captain Brian Brennan
URL:https://thespirituniversity.com/events/messages-from-the-other-side-a-mediumship-fair/
LOCATION:The Spirit University\, 373 Braden Ave\, Sarasota\, 34243
CATEGORIES:Exploration & Consciousness,Healing,Intuitive & Spiritual Practices,Mediumship,Workshops & Special Events
ATTACH;FMTTYPE=image/jpeg:https://thespirituniversity.com/wp-content/uploads/3-3.jpg
END:VEVENT
BEGIN:VEVENT
DTSTART;TZID=America/New_York:20260428T190000
DTEND;TZID=America/New_York:20260428T203000
DTSTAMP:20260425T211354
CREATED:20260325T021507Z
LAST-MODIFIED:20260412T185114Z
UID:10033825-1777402800-1777408200@thespirituniversity.com
SUMMARY:Learn\, Practice & Strengthen Your Mediumship
DESCRIPTION:With Victoria Ackerman & Guest Psychic Mediums \nWhat if your intuition is already working… and you just haven’t learned how to recognize it yet? \nJoin Victoria Ackerman and a talented team of psychic mediums for an engaging\, interactive experience where you won’t just learn about intuition—you’ll begin using it. \nThis is a lively\, hands-on event designed to help you explore intuitive abilities and mediumship in a way that feels natural\, approachable\, and genuinely exciting — whether you are just beginning or already deeply developed in your connection. \n✨ A little learning… so you understand what’s happening✨ A little practice… so you can experience it for yourself✨ A lot of discovery… as you begin to trust what you receive \nYou’ll be guided through short\, eye-opening teachings followed by simple\, structured exercises that allow you to immediately apply what you’ve learned—without pressure or expectation. \nWhether you’re brand new\, curious\, or already on your path\, this experience meets you exactly where you are. \nYou may be surprised by what comes through. \n✔ Learn how intuition and mediumship actually work✔ Recognize the subtle ways information comes in✔ Practice in a supportive and encouraging environment✔ Strengthen trust in your own connection \nEach event brings new insights\, new exercises\, and the unique energy of different mediums—so no two experiences are ever quite the same. \nCome curious.Come open.And discover what might already be within you. \nIN PERSON — no reservation needed\, simply come.
URL:https://thespirituniversity.com/events/awaken-your-intuition-learn-practice-experience-mediumship/2026-04-28/
LOCATION:The Spirit University\, 373 Braden Ave\, Sarasota\, 34243
CATEGORIES:Community • Connection • Personal Growth,Exploration & Consciousness,Intuitive & Spiritual Practices,Meditation,Mediumship
ATTACH;FMTTYPE=image/jpeg:https://thespirituniversity.com/wp-content/uploads/Learn-3.jpg
END:VEVENT
BEGIN:VEVENT
DTSTART;TZID=America/New_York:20260430T190000
DTEND;TZID=America/New_York:20260430T200000
DTSTAMP:20260425T211354
CREATED:20260227T192116Z
LAST-MODIFIED:20260227T192219Z
UID:10033807-1777575600-1777579200@thespirituniversity.com
SUMMARY:FIND YOUR PEOPLE: Weekly Community Circle
DESCRIPTION:Your Gentle First Step Into The Spirit University Community\nNew here? Start here. Been coming for months? This is still for you. \nThursday Night Circle is where The Spirit University community comes home each week — a judgment-free space where first-timers and familiar faces gather to reconnect\, reset\, and simply be together. \nWhy People Keep Coming Back \n“I came once as a newcomer. Now I don’t miss a Thursday — it’s become my anchor.” \nSome people discover this circle on their first night at TSU and never stop coming. Others have been part of TSU for years and still return every week because this space offers something rare: authentic human connection without agenda. There’s no curriculum to catch up on\, no inside knowledge required\, and absolutely no pressure to have it all figured out. You can walk in alone and leave with connections. You can return week after week and always find something new in the same sacred space. \nWhat Happens \n6:00 PM – 7:00 PM every Thursday \nWe gather in a circle. Amy\, our facilitator\, opens with a gentle grounding practice (nothing intimidating\, we promise). Then there’s space for reflection and optional sharing. Some weeks you might share what’s on your heart. Other weeks you might just listen and breathe. Both are perfect. \nNo awkward icebreakers. No being put on the spot. No prerequisites. \nJust real people\, real conversation\, and the relief of being in a space where you don’t have to perform or pretend. \nThis Circle Offers \n\nFor newcomers: Meet people before jumping into classes — get familiar faces and recommendations\nFor everyone: Weekly reset and grounding — your midweek pause button\nFor seekers: Understanding what TSU is really about — experience the vibe firsthand\nFor regulars: Reconnection with your community — the faces that feel like home\nFor all of us: Belonging — the feeling that you’re part of something meaningful\n\nMeet Amy Mercado \nAmy has a gift for making everyone feel welcome from the moment they arrive. Her warm\, grounded presence creates the kind of safety where walls come down and authentic connection happens naturally. Under her guidance\, even the most hesitant newcomer relaxes. \n\nJust Show Up\nEvery Thursday at 7:00 PM \nNo registration required — seriously\, just come \nYour first Wednesday is waiting. Your community is already here. \nWhether you’re brand new to TSU or a regular looking for deeper connection\, you belong in this circle.
URL:https://thespirituniversity.com/events/wednesday-community-circle-2/2026-04-30/
LOCATION:The Spirit University\, 373 Braden Ave\, Sarasota\, 34243
CATEGORIES:Community • Connection • Personal Growth
ATTACH;FMTTYPE=image/jpeg:https://thespirituniversity.com/wp-content/uploads/Wednesday-Community-Circle-4b.jpg
END:VEVENT
BEGIN:VEVENT
DTSTART;TZID=America/New_York:20260430T190000
DTEND;TZID=America/New_York:20260430T203000
DTSTAMP:20260425T211354
CREATED:20251213T230533Z
LAST-MODIFIED:20251222T211032Z
UID:10033676-1777575600-1777581000@thespirituniversity.com
SUMMARY:Opening to Spirit: Integration\, Mastery & Trust
DESCRIPTION:A 6-Week Advanced Journey into Mediumship \nYou’ve opened the door.You’ve strengthened the connection.Now it’s time to live and work from trust. \nOpening to Spirit: Integration\, Mastery\, and Trust is an advanced-level series designed for developing mediums who are ready to integrate their connection with Spirit into a natural\, steady\, and confident way of working. This level moves beyond technique and effort\, supporting students in allowing mediumship to flow from presence\, partnership\, and trust. \nThis series is not about trying harder — it’s about refining awareness\, deepening trust\, and staying aligned as Spirit communicates through you. Through focused exercises\, guided practice\, and thoughtful discussion\, students learn how to remain grounded\, receptive\, and consistent while working with Spirit. \nWho This Is For\nThis series is designed for:\n• students who have completed earlier levels of mediumship training• developing mediums ready for integration and mastery• those seeking confidence\, consistency\, and trust in their connection \nThis is an advanced-level offering and is not intended for beginners. \nWhat You’ll Experience\nOver six weeks\, you will explore:\n• deepening and sustaining your spirit link with stability and intention• refining the clairs for clearer\, more specific information• energy management and Sitting in the Power• building stronger evidence chains• blending more fully with Spirit while staying grounded• replacing hesitation with trust through repeated\, supported practice \nThe Outcome\nThis series offers a safe\, supportive environment to stretch your abilities\, ask deeper questions\, and grow alongside others walking a similar path. Whether your goal is to read for others\, continue personal development\, or prepare for advanced work\, this level helps you embody the foundation you’ve already built. \nThis is not about perfection — it’s about presence\, practice\, and partnership with Spirit. \nFacilitated by Kristina Smith. \nIN PERSON: No reservation needed — simply come.
URL:https://thespirituniversity.com/events/opening-to-spirit-3-integration-mastery-trust/2026-04-30/
LOCATION:The Spirit University\, 373 Braden Ave\, Sarasota\, 34243
CATEGORIES:Mediumship
ATTACH;FMTTYPE=image/jpeg:https://thespirituniversity.com/wp-content/uploads/Opening-To-Spirit-3-orig.jpg
END:VEVENT
END:VCALENDAR