BEGIN:VCALENDAR
VERSION:2.0
PRODID:-//thespirituniversity.com&#039;s Website - ECPv6.15.11//NONSGML v1.0//EN
CALSCALE:GREGORIAN
METHOD:PUBLISH
X-WR-CALNAME:thespirituniversity.com&#039;s Website
X-ORIGINAL-URL:https://thespirituniversity.com
X-WR-CALDESC:Events for thespirituniversity.com&#039;s Website
REFRESH-INTERVAL;VALUE=DURATION:PT1H
X-Robots-Tag:noindex
X-PUBLISHED-TTL:PT1H
BEGIN:VTIMEZONE
TZID:America/New_York
BEGIN:DAYLIGHT
TZOFFSETFROM:-0500
TZOFFSETTO:-0400
TZNAME:EDT
DTSTART:20250309T070000
END:DAYLIGHT
BEGIN:STANDARD
TZOFFSETFROM:-0400
TZOFFSETTO:-0500
TZNAME:EST
DTSTART:20251102T060000
END:STANDARD
BEGIN:DAYLIGHT
TZOFFSETFROM:-0500
TZOFFSETTO:-0400
TZNAME:EDT
DTSTART:20260308T070000
END:DAYLIGHT
BEGIN:STANDARD
TZOFFSETFROM:-0400
TZOFFSETTO:-0500
TZNAME:EST
DTSTART:20261101T060000
END:STANDARD
BEGIN:DAYLIGHT
TZOFFSETFROM:-0500
TZOFFSETTO:-0400
TZNAME:EDT
DTSTART:20270314T070000
END:DAYLIGHT
BEGIN:STANDARD
TZOFFSETFROM:-0400
TZOFFSETTO:-0500
TZNAME:EST
DTSTART:20271107T060000
END:STANDARD
BEGIN:DAYLIGHT
TZOFFSETFROM:-0500
TZOFFSETTO:-0400
TZNAME:EDT
DTSTART:20280312T070000
END:DAYLIGHT
BEGIN:STANDARD
TZOFFSETFROM:-0400
TZOFFSETTO:-0500
TZNAME:EST
DTSTART:20281105T060000
END:STANDARD
END:VTIMEZONE
BEGIN:VEVENT
DTSTART;TZID=America/New_York:20260509T110000
DTEND;TZID=America/New_York:20260509T120000
DTSTAMP:20260425T222013
CREATED:20260319T173915Z
LAST-MODIFIED:20260319T173915Z
UID:10033609-1778324400-1778328000@thespirituniversity.com
SUMMARY:Be One With The Healing Current
DESCRIPTION:A Healing Circle for Transformation & Connection \nJoin us every second Saturday of the month for transformative healing space where we harness high-frequency energy through focused intention\, collective resonance\, and divine alignment. This is a space of healing\, manifestation\, and spiritual elevation\, where every participant is uplifted and supported. \n🔮 Shift from Pain to Wellness – Realign your energy through guided visualization.🎶 Immerse in Healing Sound – Let soothing music uplift your spirit and open the flow of consciousness.✨ Collective Healing Power – Bring photos of  loved one to place in the Divine current.🌀 Enhance Energy Flow – Learn how breath\, posture\, and awareness strengthen connection.💫 All Levels Welcome – Whether experienced or new\, your presence amplifies the frequency of the healing current. \nExperience the profound shift and step into your highest vibration. Led by Captain Brian Brennan\, this is your chance to step into a space of healing\, manifestation\, and connection. $10. \nIN PERSON: No RSVP needed\, just come.
URL:https://thespirituniversity.com/events/be-one-with-the-healing-current-2/2026-05-09/
LOCATION:The Spirit University\, 373 Braden Ave\, Sarasota\, 34243
ATTACH;FMTTYPE=image/jpeg:https://thespirituniversity.com/wp-content/uploads/Logo-8-1.jpg
END:VEVENT
BEGIN:VEVENT
DTSTART;TZID=America/New_York:20260613T110000
DTEND;TZID=America/New_York:20260613T120000
DTSTAMP:20260425T222013
CREATED:20260319T173915Z
LAST-MODIFIED:20260319T173915Z
UID:10033610-1781348400-1781352000@thespirituniversity.com
SUMMARY:Be One With The Healing Current
DESCRIPTION:A Healing Circle for Transformation & Connection \nJoin us every second Saturday of the month for transformative healing space where we harness high-frequency energy through focused intention\, collective resonance\, and divine alignment. This is a space of healing\, manifestation\, and spiritual elevation\, where every participant is uplifted and supported. \n🔮 Shift from Pain to Wellness – Realign your energy through guided visualization.🎶 Immerse in Healing Sound – Let soothing music uplift your spirit and open the flow of consciousness.✨ Collective Healing Power – Bring photos of  loved one to place in the Divine current.🌀 Enhance Energy Flow – Learn how breath\, posture\, and awareness strengthen connection.💫 All Levels Welcome – Whether experienced or new\, your presence amplifies the frequency of the healing current. \nExperience the profound shift and step into your highest vibration. Led by Captain Brian Brennan\, this is your chance to step into a space of healing\, manifestation\, and connection. $10. \nIN PERSON: No RSVP needed\, just come.
URL:https://thespirituniversity.com/events/be-one-with-the-healing-current-2/2026-06-13/
LOCATION:The Spirit University\, 373 Braden Ave\, Sarasota\, 34243
ATTACH;FMTTYPE=image/jpeg:https://thespirituniversity.com/wp-content/uploads/Logo-8-1.jpg
END:VEVENT
BEGIN:VEVENT
DTSTART;TZID=America/New_York:20260711T110000
DTEND;TZID=America/New_York:20260711T120000
DTSTAMP:20260425T222013
CREATED:20260319T173915Z
LAST-MODIFIED:20260319T173915Z
UID:10033611-1783767600-1783771200@thespirituniversity.com
SUMMARY:Be One With The Healing Current
DESCRIPTION:A Healing Circle for Transformation & Connection \nJoin us every second Saturday of the month for transformative healing space where we harness high-frequency energy through focused intention\, collective resonance\, and divine alignment. This is a space of healing\, manifestation\, and spiritual elevation\, where every participant is uplifted and supported. \n🔮 Shift from Pain to Wellness – Realign your energy through guided visualization.🎶 Immerse in Healing Sound – Let soothing music uplift your spirit and open the flow of consciousness.✨ Collective Healing Power – Bring photos of  loved one to place in the Divine current.🌀 Enhance Energy Flow – Learn how breath\, posture\, and awareness strengthen connection.💫 All Levels Welcome – Whether experienced or new\, your presence amplifies the frequency of the healing current. \nExperience the profound shift and step into your highest vibration. Led by Captain Brian Brennan\, this is your chance to step into a space of healing\, manifestation\, and connection. $10. \nIN PERSON: No RSVP needed\, just come.
URL:https://thespirituniversity.com/events/be-one-with-the-healing-current-2/2026-07-11/
LOCATION:The Spirit University\, 373 Braden Ave\, Sarasota\, 34243
ATTACH;FMTTYPE=image/jpeg:https://thespirituniversity.com/wp-content/uploads/Logo-8-1.jpg
END:VEVENT
BEGIN:VEVENT
DTSTART;TZID=America/New_York:20260808T110000
DTEND;TZID=America/New_York:20260808T120000
DTSTAMP:20260425T222013
CREATED:20260319T173915Z
LAST-MODIFIED:20260319T173915Z
UID:10033612-1786186800-1786190400@thespirituniversity.com
SUMMARY:Be One With The Healing Current
DESCRIPTION:A Healing Circle for Transformation & Connection \nJoin us every second Saturday of the month for transformative healing space where we harness high-frequency energy through focused intention\, collective resonance\, and divine alignment. This is a space of healing\, manifestation\, and spiritual elevation\, where every participant is uplifted and supported. \n🔮 Shift from Pain to Wellness – Realign your energy through guided visualization.🎶 Immerse in Healing Sound – Let soothing music uplift your spirit and open the flow of consciousness.✨ Collective Healing Power – Bring photos of  loved one to place in the Divine current.🌀 Enhance Energy Flow – Learn how breath\, posture\, and awareness strengthen connection.💫 All Levels Welcome – Whether experienced or new\, your presence amplifies the frequency of the healing current. \nExperience the profound shift and step into your highest vibration. Led by Captain Brian Brennan\, this is your chance to step into a space of healing\, manifestation\, and connection. $10. \nIN PERSON: No RSVP needed\, just come.
URL:https://thespirituniversity.com/events/be-one-with-the-healing-current-2/2026-08-08/
LOCATION:The Spirit University\, 373 Braden Ave\, Sarasota\, 34243
ATTACH;FMTTYPE=image/jpeg:https://thespirituniversity.com/wp-content/uploads/Logo-8-1.jpg
END:VEVENT
BEGIN:VEVENT
DTSTART;TZID=America/New_York:20260912T110000
DTEND;TZID=America/New_York:20260912T120000
DTSTAMP:20260425T222013
CREATED:20260319T173915Z
LAST-MODIFIED:20260319T173915Z
UID:10033613-1789210800-1789214400@thespirituniversity.com
SUMMARY:Be One With The Healing Current
DESCRIPTION:A Healing Circle for Transformation & Connection \nJoin us every second Saturday of the month for transformative healing space where we harness high-frequency energy through focused intention\, collective resonance\, and divine alignment. This is a space of healing\, manifestation\, and spiritual elevation\, where every participant is uplifted and supported. \n🔮 Shift from Pain to Wellness – Realign your energy through guided visualization.🎶 Immerse in Healing Sound – Let soothing music uplift your spirit and open the flow of consciousness.✨ Collective Healing Power – Bring photos of  loved one to place in the Divine current.🌀 Enhance Energy Flow – Learn how breath\, posture\, and awareness strengthen connection.💫 All Levels Welcome – Whether experienced or new\, your presence amplifies the frequency of the healing current. \nExperience the profound shift and step into your highest vibration. Led by Captain Brian Brennan\, this is your chance to step into a space of healing\, manifestation\, and connection. $10. \nIN PERSON: No RSVP needed\, just come.
URL:https://thespirituniversity.com/events/be-one-with-the-healing-current-2/2026-09-12/
LOCATION:The Spirit University\, 373 Braden Ave\, Sarasota\, 34243
ATTACH;FMTTYPE=image/jpeg:https://thespirituniversity.com/wp-content/uploads/Logo-8-1.jpg
END:VEVENT
BEGIN:VEVENT
DTSTART;TZID=America/New_York:20261010T110000
DTEND;TZID=America/New_York:20261010T120000
DTSTAMP:20260425T222013
CREATED:20260319T173915Z
LAST-MODIFIED:20260319T173915Z
UID:10033614-1791630000-1791633600@thespirituniversity.com
SUMMARY:Be One With The Healing Current
DESCRIPTION:A Healing Circle for Transformation & Connection \nJoin us every second Saturday of the month for transformative healing space where we harness high-frequency energy through focused intention\, collective resonance\, and divine alignment. This is a space of healing\, manifestation\, and spiritual elevation\, where every participant is uplifted and supported. \n🔮 Shift from Pain to Wellness – Realign your energy through guided visualization.🎶 Immerse in Healing Sound – Let soothing music uplift your spirit and open the flow of consciousness.✨ Collective Healing Power – Bring photos of  loved one to place in the Divine current.🌀 Enhance Energy Flow – Learn how breath\, posture\, and awareness strengthen connection.💫 All Levels Welcome – Whether experienced or new\, your presence amplifies the frequency of the healing current. \nExperience the profound shift and step into your highest vibration. Led by Captain Brian Brennan\, this is your chance to step into a space of healing\, manifestation\, and connection. $10. \nIN PERSON: No RSVP needed\, just come.
URL:https://thespirituniversity.com/events/be-one-with-the-healing-current-2/2026-10-10/
LOCATION:The Spirit University\, 373 Braden Ave\, Sarasota\, 34243
ATTACH;FMTTYPE=image/jpeg:https://thespirituniversity.com/wp-content/uploads/Logo-8-1.jpg
END:VEVENT
BEGIN:VEVENT
DTSTART;TZID=America/New_York:20261114T110000
DTEND;TZID=America/New_York:20261114T120000
DTSTAMP:20260425T222013
CREATED:20260319T173915Z
LAST-MODIFIED:20260319T173915Z
UID:10033615-1794654000-1794657600@thespirituniversity.com
SUMMARY:Be One With The Healing Current
DESCRIPTION:A Healing Circle for Transformation & Connection \nJoin us every second Saturday of the month for transformative healing space where we harness high-frequency energy through focused intention\, collective resonance\, and divine alignment. This is a space of healing\, manifestation\, and spiritual elevation\, where every participant is uplifted and supported. \n🔮 Shift from Pain to Wellness – Realign your energy through guided visualization.🎶 Immerse in Healing Sound – Let soothing music uplift your spirit and open the flow of consciousness.✨ Collective Healing Power – Bring photos of  loved one to place in the Divine current.🌀 Enhance Energy Flow – Learn how breath\, posture\, and awareness strengthen connection.💫 All Levels Welcome – Whether experienced or new\, your presence amplifies the frequency of the healing current. \nExperience the profound shift and step into your highest vibration. Led by Captain Brian Brennan\, this is your chance to step into a space of healing\, manifestation\, and connection. $10. \nIN PERSON: No RSVP needed\, just come.
URL:https://thespirituniversity.com/events/be-one-with-the-healing-current-2/2026-11-14/
LOCATION:The Spirit University\, 373 Braden Ave\, Sarasota\, 34243
ATTACH;FMTTYPE=image/jpeg:https://thespirituniversity.com/wp-content/uploads/Logo-8-1.jpg
END:VEVENT
BEGIN:VEVENT
DTSTART;TZID=America/New_York:20261212T110000
DTEND;TZID=America/New_York:20261212T120000
DTSTAMP:20260425T222013
CREATED:20260319T173915Z
LAST-MODIFIED:20260319T173915Z
UID:10033616-1797073200-1797076800@thespirituniversity.com
SUMMARY:Be One With The Healing Current
DESCRIPTION:A Healing Circle for Transformation & Connection \nJoin us every second Saturday of the month for transformative healing space where we harness high-frequency energy through focused intention\, collective resonance\, and divine alignment. This is a space of healing\, manifestation\, and spiritual elevation\, where every participant is uplifted and supported. \n🔮 Shift from Pain to Wellness – Realign your energy through guided visualization.🎶 Immerse in Healing Sound – Let soothing music uplift your spirit and open the flow of consciousness.✨ Collective Healing Power – Bring photos of  loved one to place in the Divine current.🌀 Enhance Energy Flow – Learn how breath\, posture\, and awareness strengthen connection.💫 All Levels Welcome – Whether experienced or new\, your presence amplifies the frequency of the healing current. \nExperience the profound shift and step into your highest vibration. Led by Captain Brian Brennan\, this is your chance to step into a space of healing\, manifestation\, and connection. $10. \nIN PERSON: No RSVP needed\, just come.
URL:https://thespirituniversity.com/events/be-one-with-the-healing-current-2/2026-12-12/
LOCATION:The Spirit University\, 373 Braden Ave\, Sarasota\, 34243
ATTACH;FMTTYPE=image/jpeg:https://thespirituniversity.com/wp-content/uploads/Logo-8-1.jpg
END:VEVENT
BEGIN:VEVENT
DTSTART;TZID=America/New_York:20270109T110000
DTEND;TZID=America/New_York:20270109T120000
DTSTAMP:20260425T222013
CREATED:20260319T173915Z
LAST-MODIFIED:20260319T173915Z
UID:10033617-1799492400-1799496000@thespirituniversity.com
SUMMARY:Be One With The Healing Current
DESCRIPTION:A Healing Circle for Transformation & Connection \nJoin us every second Saturday of the month for transformative healing space where we harness high-frequency energy through focused intention\, collective resonance\, and divine alignment. This is a space of healing\, manifestation\, and spiritual elevation\, where every participant is uplifted and supported. \n🔮 Shift from Pain to Wellness – Realign your energy through guided visualization.🎶 Immerse in Healing Sound – Let soothing music uplift your spirit and open the flow of consciousness.✨ Collective Healing Power – Bring photos of  loved one to place in the Divine current.🌀 Enhance Energy Flow – Learn how breath\, posture\, and awareness strengthen connection.💫 All Levels Welcome – Whether experienced or new\, your presence amplifies the frequency of the healing current. \nExperience the profound shift and step into your highest vibration. Led by Captain Brian Brennan\, this is your chance to step into a space of healing\, manifestation\, and connection. $10. \nIN PERSON: No RSVP needed\, just come.
URL:https://thespirituniversity.com/events/be-one-with-the-healing-current-2/2027-01-09/
LOCATION:The Spirit University\, 373 Braden Ave\, Sarasota\, 34243
ATTACH;FMTTYPE=image/jpeg:https://thespirituniversity.com/wp-content/uploads/Logo-8-1.jpg
END:VEVENT
BEGIN:VEVENT
DTSTART;TZID=America/New_York:20270213T110000
DTEND;TZID=America/New_York:20270213T120000
DTSTAMP:20260425T222013
CREATED:20260319T173915Z
LAST-MODIFIED:20260319T173915Z
UID:10033618-1802516400-1802520000@thespirituniversity.com
SUMMARY:Be One With The Healing Current
DESCRIPTION:A Healing Circle for Transformation & Connection \nJoin us every second Saturday of the month for transformative healing space where we harness high-frequency energy through focused intention\, collective resonance\, and divine alignment. This is a space of healing\, manifestation\, and spiritual elevation\, where every participant is uplifted and supported. \n🔮 Shift from Pain to Wellness – Realign your energy through guided visualization.🎶 Immerse in Healing Sound – Let soothing music uplift your spirit and open the flow of consciousness.✨ Collective Healing Power – Bring photos of  loved one to place in the Divine current.🌀 Enhance Energy Flow – Learn how breath\, posture\, and awareness strengthen connection.💫 All Levels Welcome – Whether experienced or new\, your presence amplifies the frequency of the healing current. \nExperience the profound shift and step into your highest vibration. Led by Captain Brian Brennan\, this is your chance to step into a space of healing\, manifestation\, and connection. $10. \nIN PERSON: No RSVP needed\, just come.
URL:https://thespirituniversity.com/events/be-one-with-the-healing-current-2/2027-02-13/
LOCATION:The Spirit University\, 373 Braden Ave\, Sarasota\, 34243
ATTACH;FMTTYPE=image/jpeg:https://thespirituniversity.com/wp-content/uploads/Logo-8-1.jpg
END:VEVENT
BEGIN:VEVENT
DTSTART;TZID=America/New_York:20270313T110000
DTEND;TZID=America/New_York:20270313T120000
DTSTAMP:20260425T222013
CREATED:20260319T173915Z
LAST-MODIFIED:20260319T173915Z
UID:10033619-1804935600-1804939200@thespirituniversity.com
SUMMARY:Be One With The Healing Current
DESCRIPTION:A Healing Circle for Transformation & Connection \nJoin us every second Saturday of the month for transformative healing space where we harness high-frequency energy through focused intention\, collective resonance\, and divine alignment. This is a space of healing\, manifestation\, and spiritual elevation\, where every participant is uplifted and supported. \n🔮 Shift from Pain to Wellness – Realign your energy through guided visualization.🎶 Immerse in Healing Sound – Let soothing music uplift your spirit and open the flow of consciousness.✨ Collective Healing Power – Bring photos of  loved one to place in the Divine current.🌀 Enhance Energy Flow – Learn how breath\, posture\, and awareness strengthen connection.💫 All Levels Welcome – Whether experienced or new\, your presence amplifies the frequency of the healing current. \nExperience the profound shift and step into your highest vibration. Led by Captain Brian Brennan\, this is your chance to step into a space of healing\, manifestation\, and connection. $10. \nIN PERSON: No RSVP needed\, just come.
URL:https://thespirituniversity.com/events/be-one-with-the-healing-current-2/2027-03-13/
LOCATION:The Spirit University\, 373 Braden Ave\, Sarasota\, 34243
ATTACH;FMTTYPE=image/jpeg:https://thespirituniversity.com/wp-content/uploads/Logo-8-1.jpg
END:VEVENT
BEGIN:VEVENT
DTSTART;TZID=America/New_York:20270410T110000
DTEND;TZID=America/New_York:20270410T120000
DTSTAMP:20260425T222013
CREATED:20260319T173915Z
LAST-MODIFIED:20260319T173915Z
UID:10033620-1807354800-1807358400@thespirituniversity.com
SUMMARY:Be One With The Healing Current
DESCRIPTION:A Healing Circle for Transformation & Connection \nJoin us every second Saturday of the month for transformative healing space where we harness high-frequency energy through focused intention\, collective resonance\, and divine alignment. This is a space of healing\, manifestation\, and spiritual elevation\, where every participant is uplifted and supported. \n🔮 Shift from Pain to Wellness – Realign your energy through guided visualization.🎶 Immerse in Healing Sound – Let soothing music uplift your spirit and open the flow of consciousness.✨ Collective Healing Power – Bring photos of  loved one to place in the Divine current.🌀 Enhance Energy Flow – Learn how breath\, posture\, and awareness strengthen connection.💫 All Levels Welcome – Whether experienced or new\, your presence amplifies the frequency of the healing current. \nExperience the profound shift and step into your highest vibration. Led by Captain Brian Brennan\, this is your chance to step into a space of healing\, manifestation\, and connection. $10. \nIN PERSON: No RSVP needed\, just come.
URL:https://thespirituniversity.com/events/be-one-with-the-healing-current-2/2027-04-10/
LOCATION:The Spirit University\, 373 Braden Ave\, Sarasota\, 34243
ATTACH;FMTTYPE=image/jpeg:https://thespirituniversity.com/wp-content/uploads/Logo-8-1.jpg
END:VEVENT
BEGIN:VEVENT
DTSTART;TZID=America/New_York:20270508T110000
DTEND;TZID=America/New_York:20270508T120000
DTSTAMP:20260425T222013
CREATED:20260319T173915Z
LAST-MODIFIED:20260319T173915Z
UID:10033621-1809774000-1809777600@thespirituniversity.com
SUMMARY:Be One With The Healing Current
DESCRIPTION:A Healing Circle for Transformation & Connection \nJoin us every second Saturday of the month for transformative healing space where we harness high-frequency energy through focused intention\, collective resonance\, and divine alignment. This is a space of healing\, manifestation\, and spiritual elevation\, where every participant is uplifted and supported. \n🔮 Shift from Pain to Wellness – Realign your energy through guided visualization.🎶 Immerse in Healing Sound – Let soothing music uplift your spirit and open the flow of consciousness.✨ Collective Healing Power – Bring photos of  loved one to place in the Divine current.🌀 Enhance Energy Flow – Learn how breath\, posture\, and awareness strengthen connection.💫 All Levels Welcome – Whether experienced or new\, your presence amplifies the frequency of the healing current. \nExperience the profound shift and step into your highest vibration. Led by Captain Brian Brennan\, this is your chance to step into a space of healing\, manifestation\, and connection. $10. \nIN PERSON: No RSVP needed\, just come.
URL:https://thespirituniversity.com/events/be-one-with-the-healing-current-2/2027-05-08/
LOCATION:The Spirit University\, 373 Braden Ave\, Sarasota\, 34243
ATTACH;FMTTYPE=image/jpeg:https://thespirituniversity.com/wp-content/uploads/Logo-8-1.jpg
END:VEVENT
BEGIN:VEVENT
DTSTART;TZID=America/New_York:20270612T110000
DTEND;TZID=America/New_York:20270612T120000
DTSTAMP:20260425T222013
CREATED:20260319T173915Z
LAST-MODIFIED:20260319T173915Z
UID:10033622-1812798000-1812801600@thespirituniversity.com
SUMMARY:Be One With The Healing Current
DESCRIPTION:A Healing Circle for Transformation & Connection \nJoin us every second Saturday of the month for transformative healing space where we harness high-frequency energy through focused intention\, collective resonance\, and divine alignment. This is a space of healing\, manifestation\, and spiritual elevation\, where every participant is uplifted and supported. \n🔮 Shift from Pain to Wellness – Realign your energy through guided visualization.🎶 Immerse in Healing Sound – Let soothing music uplift your spirit and open the flow of consciousness.✨ Collective Healing Power – Bring photos of  loved one to place in the Divine current.🌀 Enhance Energy Flow – Learn how breath\, posture\, and awareness strengthen connection.💫 All Levels Welcome – Whether experienced or new\, your presence amplifies the frequency of the healing current. \nExperience the profound shift and step into your highest vibration. Led by Captain Brian Brennan\, this is your chance to step into a space of healing\, manifestation\, and connection. $10. \nIN PERSON: No RSVP needed\, just come.
URL:https://thespirituniversity.com/events/be-one-with-the-healing-current-2/2027-06-12/
LOCATION:The Spirit University\, 373 Braden Ave\, Sarasota\, 34243
ATTACH;FMTTYPE=image/jpeg:https://thespirituniversity.com/wp-content/uploads/Logo-8-1.jpg
END:VEVENT
END:VCALENDAR