BEGIN:VCALENDAR
VERSION:2.0
PRODID:-//thespirituniversity.com&#039;s Website - ECPv6.15.11//NONSGML v1.0//EN
CALSCALE:GREGORIAN
METHOD:PUBLISH
X-WR-CALNAME:thespirituniversity.com&#039;s Website
X-ORIGINAL-URL:https://thespirituniversity.com
X-WR-CALDESC:Events for thespirituniversity.com&#039;s Website
REFRESH-INTERVAL;VALUE=DURATION:PT1H
X-Robots-Tag:noindex
X-PUBLISHED-TTL:PT1H
BEGIN:VTIMEZONE
TZID:America/New_York
BEGIN:DAYLIGHT
TZOFFSETFROM:-0500
TZOFFSETTO:-0400
TZNAME:EDT
DTSTART:20250309T070000
END:DAYLIGHT
BEGIN:STANDARD
TZOFFSETFROM:-0400
TZOFFSETTO:-0500
TZNAME:EST
DTSTART:20251102T060000
END:STANDARD
BEGIN:DAYLIGHT
TZOFFSETFROM:-0500
TZOFFSETTO:-0400
TZNAME:EDT
DTSTART:20260308T070000
END:DAYLIGHT
BEGIN:STANDARD
TZOFFSETFROM:-0400
TZOFFSETTO:-0500
TZNAME:EST
DTSTART:20261101T060000
END:STANDARD
BEGIN:DAYLIGHT
TZOFFSETFROM:-0500
TZOFFSETTO:-0400
TZNAME:EDT
DTSTART:20270314T070000
END:DAYLIGHT
BEGIN:STANDARD
TZOFFSETFROM:-0400
TZOFFSETTO:-0500
TZNAME:EST
DTSTART:20271107T060000
END:STANDARD
END:VTIMEZONE
BEGIN:VEVENT
DTSTART;TZID=America/New_York:20260423T190000
DTEND;TZID=America/New_York:20260423T203000
DTSTAMP:20260421T045706
CREATED:20251213T230533Z
LAST-MODIFIED:20251222T211032Z
UID:10033675-1776970800-1776976200@thespirituniversity.com
SUMMARY:Opening to Spirit: Integration\, Mastery & Trust
DESCRIPTION:A 6-Week Advanced Journey into Mediumship \nYou’ve opened the door.You’ve strengthened the connection.Now it’s time to live and work from trust. \nOpening to Spirit: Integration\, Mastery\, and Trust is an advanced-level series designed for developing mediums who are ready to integrate their connection with Spirit into a natural\, steady\, and confident way of working. This level moves beyond technique and effort\, supporting students in allowing mediumship to flow from presence\, partnership\, and trust. \nThis series is not about trying harder — it’s about refining awareness\, deepening trust\, and staying aligned as Spirit communicates through you. Through focused exercises\, guided practice\, and thoughtful discussion\, students learn how to remain grounded\, receptive\, and consistent while working with Spirit. \nWho This Is For\nThis series is designed for:\n• students who have completed earlier levels of mediumship training• developing mediums ready for integration and mastery• those seeking confidence\, consistency\, and trust in their connection \nThis is an advanced-level offering and is not intended for beginners. \nWhat You’ll Experience\nOver six weeks\, you will explore:\n• deepening and sustaining your spirit link with stability and intention• refining the clairs for clearer\, more specific information• energy management and Sitting in the Power• building stronger evidence chains• blending more fully with Spirit while staying grounded• replacing hesitation with trust through repeated\, supported practice \nThe Outcome\nThis series offers a safe\, supportive environment to stretch your abilities\, ask deeper questions\, and grow alongside others walking a similar path. Whether your goal is to read for others\, continue personal development\, or prepare for advanced work\, this level helps you embody the foundation you’ve already built. \nThis is not about perfection — it’s about presence\, practice\, and partnership with Spirit. \nFacilitated by Kristina Smith. \nIN PERSON: No reservation needed — simply come.
URL:https://thespirituniversity.com/events/opening-to-spirit-3-integration-mastery-trust/2026-04-23/
LOCATION:The Spirit University\, 373 Braden Ave\, Sarasota\, 34243
CATEGORIES:Mediumship
ATTACH;FMTTYPE=image/jpeg:https://thespirituniversity.com/wp-content/uploads/Opening-To-Spirit-3-orig.jpg
END:VEVENT
BEGIN:VEVENT
DTSTART;TZID=America/New_York:20260430T190000
DTEND;TZID=America/New_York:20260430T203000
DTSTAMP:20260421T045706
CREATED:20251213T230533Z
LAST-MODIFIED:20251222T211032Z
UID:10033676-1777575600-1777581000@thespirituniversity.com
SUMMARY:Opening to Spirit: Integration\, Mastery & Trust
DESCRIPTION:A 6-Week Advanced Journey into Mediumship \nYou’ve opened the door.You’ve strengthened the connection.Now it’s time to live and work from trust. \nOpening to Spirit: Integration\, Mastery\, and Trust is an advanced-level series designed for developing mediums who are ready to integrate their connection with Spirit into a natural\, steady\, and confident way of working. This level moves beyond technique and effort\, supporting students in allowing mediumship to flow from presence\, partnership\, and trust. \nThis series is not about trying harder — it’s about refining awareness\, deepening trust\, and staying aligned as Spirit communicates through you. Through focused exercises\, guided practice\, and thoughtful discussion\, students learn how to remain grounded\, receptive\, and consistent while working with Spirit. \nWho This Is For\nThis series is designed for:\n• students who have completed earlier levels of mediumship training• developing mediums ready for integration and mastery• those seeking confidence\, consistency\, and trust in their connection \nThis is an advanced-level offering and is not intended for beginners. \nWhat You’ll Experience\nOver six weeks\, you will explore:\n• deepening and sustaining your spirit link with stability and intention• refining the clairs for clearer\, more specific information• energy management and Sitting in the Power• building stronger evidence chains• blending more fully with Spirit while staying grounded• replacing hesitation with trust through repeated\, supported practice \nThe Outcome\nThis series offers a safe\, supportive environment to stretch your abilities\, ask deeper questions\, and grow alongside others walking a similar path. Whether your goal is to read for others\, continue personal development\, or prepare for advanced work\, this level helps you embody the foundation you’ve already built. \nThis is not about perfection — it’s about presence\, practice\, and partnership with Spirit. \nFacilitated by Kristina Smith. \nIN PERSON: No reservation needed — simply come.
URL:https://thespirituniversity.com/events/opening-to-spirit-3-integration-mastery-trust/2026-04-30/
LOCATION:The Spirit University\, 373 Braden Ave\, Sarasota\, 34243
CATEGORIES:Mediumship
ATTACH;FMTTYPE=image/jpeg:https://thespirituniversity.com/wp-content/uploads/Opening-To-Spirit-3-orig.jpg
END:VEVENT
BEGIN:VEVENT
DTSTART;TZID=America/New_York:20260507T190000
DTEND;TZID=America/New_York:20260507T203000
DTSTAMP:20260421T045706
CREATED:20251213T230533Z
LAST-MODIFIED:20251222T211032Z
UID:10033677-1778180400-1778185800@thespirituniversity.com
SUMMARY:Opening to Spirit: Integration\, Mastery & Trust
DESCRIPTION:A 6-Week Advanced Journey into Mediumship \nYou’ve opened the door.You’ve strengthened the connection.Now it’s time to live and work from trust. \nOpening to Spirit: Integration\, Mastery\, and Trust is an advanced-level series designed for developing mediums who are ready to integrate their connection with Spirit into a natural\, steady\, and confident way of working. This level moves beyond technique and effort\, supporting students in allowing mediumship to flow from presence\, partnership\, and trust. \nThis series is not about trying harder — it’s about refining awareness\, deepening trust\, and staying aligned as Spirit communicates through you. Through focused exercises\, guided practice\, and thoughtful discussion\, students learn how to remain grounded\, receptive\, and consistent while working with Spirit. \nWho This Is For\nThis series is designed for:\n• students who have completed earlier levels of mediumship training• developing mediums ready for integration and mastery• those seeking confidence\, consistency\, and trust in their connection \nThis is an advanced-level offering and is not intended for beginners. \nWhat You’ll Experience\nOver six weeks\, you will explore:\n• deepening and sustaining your spirit link with stability and intention• refining the clairs for clearer\, more specific information• energy management and Sitting in the Power• building stronger evidence chains• blending more fully with Spirit while staying grounded• replacing hesitation with trust through repeated\, supported practice \nThe Outcome\nThis series offers a safe\, supportive environment to stretch your abilities\, ask deeper questions\, and grow alongside others walking a similar path. Whether your goal is to read for others\, continue personal development\, or prepare for advanced work\, this level helps you embody the foundation you’ve already built. \nThis is not about perfection — it’s about presence\, practice\, and partnership with Spirit. \nFacilitated by Kristina Smith. \nIN PERSON: No reservation needed — simply come.
URL:https://thespirituniversity.com/events/opening-to-spirit-3-integration-mastery-trust/2026-05-07/
LOCATION:The Spirit University\, 373 Braden Ave\, Sarasota\, 34243
CATEGORIES:Mediumship
ATTACH;FMTTYPE=image/jpeg:https://thespirituniversity.com/wp-content/uploads/Opening-To-Spirit-3-orig.jpg
END:VEVENT
BEGIN:VEVENT
DTSTART;TZID=America/New_York:20260514T190000
DTEND;TZID=America/New_York:20260514T203000
DTSTAMP:20260421T045706
CREATED:20251213T230533Z
LAST-MODIFIED:20251222T211032Z
UID:10033678-1778785200-1778790600@thespirituniversity.com
SUMMARY:Opening to Spirit: Integration\, Mastery & Trust
DESCRIPTION:A 6-Week Advanced Journey into Mediumship \nYou’ve opened the door.You’ve strengthened the connection.Now it’s time to live and work from trust. \nOpening to Spirit: Integration\, Mastery\, and Trust is an advanced-level series designed for developing mediums who are ready to integrate their connection with Spirit into a natural\, steady\, and confident way of working. This level moves beyond technique and effort\, supporting students in allowing mediumship to flow from presence\, partnership\, and trust. \nThis series is not about trying harder — it’s about refining awareness\, deepening trust\, and staying aligned as Spirit communicates through you. Through focused exercises\, guided practice\, and thoughtful discussion\, students learn how to remain grounded\, receptive\, and consistent while working with Spirit. \nWho This Is For\nThis series is designed for:\n• students who have completed earlier levels of mediumship training• developing mediums ready for integration and mastery• those seeking confidence\, consistency\, and trust in their connection \nThis is an advanced-level offering and is not intended for beginners. \nWhat You’ll Experience\nOver six weeks\, you will explore:\n• deepening and sustaining your spirit link with stability and intention• refining the clairs for clearer\, more specific information• energy management and Sitting in the Power• building stronger evidence chains• blending more fully with Spirit while staying grounded• replacing hesitation with trust through repeated\, supported practice \nThe Outcome\nThis series offers a safe\, supportive environment to stretch your abilities\, ask deeper questions\, and grow alongside others walking a similar path. Whether your goal is to read for others\, continue personal development\, or prepare for advanced work\, this level helps you embody the foundation you’ve already built. \nThis is not about perfection — it’s about presence\, practice\, and partnership with Spirit. \nFacilitated by Kristina Smith. \nIN PERSON: No reservation needed — simply come.
URL:https://thespirituniversity.com/events/opening-to-spirit-3-integration-mastery-trust/2026-05-14/
LOCATION:The Spirit University\, 373 Braden Ave\, Sarasota\, 34243
CATEGORIES:Mediumship
ATTACH;FMTTYPE=image/jpeg:https://thespirituniversity.com/wp-content/uploads/Opening-To-Spirit-3-orig.jpg
END:VEVENT
BEGIN:VEVENT
DTSTART;TZID=America/New_York:20260521T190000
DTEND;TZID=America/New_York:20260521T203000
DTSTAMP:20260421T045706
CREATED:20251213T230533Z
LAST-MODIFIED:20251222T211032Z
UID:10033679-1779390000-1779395400@thespirituniversity.com
SUMMARY:Opening to Spirit: Integration\, Mastery & Trust
DESCRIPTION:A 6-Week Advanced Journey into Mediumship \nYou’ve opened the door.You’ve strengthened the connection.Now it’s time to live and work from trust. \nOpening to Spirit: Integration\, Mastery\, and Trust is an advanced-level series designed for developing mediums who are ready to integrate their connection with Spirit into a natural\, steady\, and confident way of working. This level moves beyond technique and effort\, supporting students in allowing mediumship to flow from presence\, partnership\, and trust. \nThis series is not about trying harder — it’s about refining awareness\, deepening trust\, and staying aligned as Spirit communicates through you. Through focused exercises\, guided practice\, and thoughtful discussion\, students learn how to remain grounded\, receptive\, and consistent while working with Spirit. \nWho This Is For\nThis series is designed for:\n• students who have completed earlier levels of mediumship training• developing mediums ready for integration and mastery• those seeking confidence\, consistency\, and trust in their connection \nThis is an advanced-level offering and is not intended for beginners. \nWhat You’ll Experience\nOver six weeks\, you will explore:\n• deepening and sustaining your spirit link with stability and intention• refining the clairs for clearer\, more specific information• energy management and Sitting in the Power• building stronger evidence chains• blending more fully with Spirit while staying grounded• replacing hesitation with trust through repeated\, supported practice \nThe Outcome\nThis series offers a safe\, supportive environment to stretch your abilities\, ask deeper questions\, and grow alongside others walking a similar path. Whether your goal is to read for others\, continue personal development\, or prepare for advanced work\, this level helps you embody the foundation you’ve already built. \nThis is not about perfection — it’s about presence\, practice\, and partnership with Spirit. \nFacilitated by Kristina Smith. \nIN PERSON: No reservation needed — simply come.
URL:https://thespirituniversity.com/events/opening-to-spirit-3-integration-mastery-trust/2026-05-21/
LOCATION:The Spirit University\, 373 Braden Ave\, Sarasota\, 34243
CATEGORIES:Mediumship
ATTACH;FMTTYPE=image/jpeg:https://thespirituniversity.com/wp-content/uploads/Opening-To-Spirit-3-orig.jpg
END:VEVENT
END:VCALENDAR