BEGIN:VCALENDAR
VERSION:2.0
PRODID:-//thespirituniversity.com&#039;s Website - ECPv6.15.11//NONSGML v1.0//EN
CALSCALE:GREGORIAN
METHOD:PUBLISH
X-WR-CALNAME:thespirituniversity.com&#039;s Website
X-ORIGINAL-URL:https://thespirituniversity.com
X-WR-CALDESC:Events for thespirituniversity.com&#039;s Website
REFRESH-INTERVAL;VALUE=DURATION:PT1H
X-Robots-Tag:noindex
X-PUBLISHED-TTL:PT1H
BEGIN:VTIMEZONE
TZID:America/New_York
BEGIN:DAYLIGHT
TZOFFSETFROM:-0500
TZOFFSETTO:-0400
TZNAME:EDT
DTSTART:20180311T070000
END:DAYLIGHT
BEGIN:STANDARD
TZOFFSETFROM:-0400
TZOFFSETTO:-0500
TZNAME:EST
DTSTART:20181104T060000
END:STANDARD
BEGIN:DAYLIGHT
TZOFFSETFROM:-0500
TZOFFSETTO:-0400
TZNAME:EDT
DTSTART:20190310T070000
END:DAYLIGHT
BEGIN:STANDARD
TZOFFSETFROM:-0400
TZOFFSETTO:-0500
TZNAME:EST
DTSTART:20191103T060000
END:STANDARD
BEGIN:DAYLIGHT
TZOFFSETFROM:-0500
TZOFFSETTO:-0400
TZNAME:EDT
DTSTART:20200308T070000
END:DAYLIGHT
BEGIN:STANDARD
TZOFFSETFROM:-0400
TZOFFSETTO:-0500
TZNAME:EST
DTSTART:20201101T060000
END:STANDARD
END:VTIMEZONE
BEGIN:VEVENT
DTSTART;TZID=America/New_York:20190511T113000
DTEND;TZID=America/New_York:20190511T130000
DTSTAMP:20260423T231225
CREATED:20190312T230352Z
LAST-MODIFIED:20190321T221400Z
UID:10020771-1557574200-1557579600@thespirituniversity.com
SUMMARY:Unity In Spirit - Networking & Conversations
DESCRIPTION:The Spirit University cordially invites you to our first annual Unity in Spirit networking & conversations gathering! This event is to connect the different spiritual centers here in Sarasota and Manatee Counties\, exchange ideas\, do some networking\, break down barriers\, and work together to build a brighter future. \nBeing a part of a broader community is a great way to bring people together and help them find their higher purpose. With this event we hope to encourage directors/owners of spiritual development centers to not only educate one another on their work\, but to come together and see what we have in common to help each other. You will meet others who you may follow a path akin to yours or learn something that is completely new. You may discover new techniques and ideas to work into your own teachings/practices\, or ways to fine-tune what you already have going. All are welcome. \nPlease RSVP by Thurs\, May 9th including how many attendees to Light@VictoriaAckerman.com. If you know anyone who would be a great addition to this event\, please send them an invite!  The more the merrier! \nWe look forward to seeing you and Uniting In Spirit to make the spiritual communities of Sarasota and Manatee stronger!
URL:https://thespirituniversity.com/events/unity-in-spirit/
LOCATION:Barnacle Bill’s Seafood Restaurant\, 5050 N. Tamiami Trail\, Sarasota\, FL 34234
CATEGORIES:Healing
END:VEVENT
END:VCALENDAR