BEGIN:VCALENDAR
VERSION:2.0
PRODID:-//thespirituniversity.com&#039;s Website - ECPv6.15.11//NONSGML v1.0//EN
CALSCALE:GREGORIAN
METHOD:PUBLISH
X-ORIGINAL-URL:https://thespirituniversity.com
X-WR-CALDESC:Events for thespirituniversity.com&#039;s Website
REFRESH-INTERVAL;VALUE=DURATION:PT1H
X-Robots-Tag:noindex
X-PUBLISHED-TTL:PT1H
BEGIN:VTIMEZONE
TZID:America/New_York
BEGIN:DAYLIGHT
TZOFFSETFROM:-0500
TZOFFSETTO:-0400
TZNAME:EDT
DTSTART:20160313T070000
END:DAYLIGHT
BEGIN:STANDARD
TZOFFSETFROM:-0400
TZOFFSETTO:-0500
TZNAME:EST
DTSTART:20161106T060000
END:STANDARD
BEGIN:DAYLIGHT
TZOFFSETFROM:-0500
TZOFFSETTO:-0400
TZNAME:EDT
DTSTART:20170312T070000
END:DAYLIGHT
BEGIN:STANDARD
TZOFFSETFROM:-0400
TZOFFSETTO:-0500
TZNAME:EST
DTSTART:20171105T060000
END:STANDARD
BEGIN:DAYLIGHT
TZOFFSETFROM:-0500
TZOFFSETTO:-0400
TZNAME:EDT
DTSTART:20180311T070000
END:DAYLIGHT
BEGIN:STANDARD
TZOFFSETFROM:-0400
TZOFFSETTO:-0500
TZNAME:EST
DTSTART:20181104T060000
END:STANDARD
END:VTIMEZONE
BEGIN:VEVENT
DTSTART;TZID=America/New_York:20171010T120000
DTEND;TZID=America/New_York:20171010T130000
DTSTAMP:20260421T054300
CREATED:20170825T174259Z
LAST-MODIFIED:20170825T174346Z
UID:10016742-1507636800-1507640400@thespirituniversity.com
SUMMARY:Spirit Connections - Business Networking Group
DESCRIPTION:Connections Are Everything\n** Meets Every 2nd Tuesday ** \nIncrease your exposure to like-minded professionals\, gain referrals from a spiritual network and sharpen your networking skills with exclusive member resources. Develop lasting relationships that allow you to grow personally and professionally. Hosted by Lena Mamone. \nHow will you grow your business?
URL:https://thespirituniversity.com/events/spirit-connections-business-networking-group/
LOCATION:Gekos Grill & Pub\, 351 N Cattlemen Rd\, Sarasota\, 34232
ORGANIZER;CN="Victoria Ackerman":MAILTO:Light@VictoriaAckerman.com
END:VEVENT
BEGIN:VEVENT
DTSTART;TZID=America/New_York:20170808T120000
DTEND;TZID=America/New_York:20170808T130000
DTSTAMP:20260421T054300
CREATED:20170721T212254Z
LAST-MODIFIED:20170805T213513Z
UID:10014461-1502193600-1502197200@thespirituniversity.com
SUMMARY:Spirit Connections - Business Networking Group
DESCRIPTION:Connections Are Everything\n** Meets Every 2nd Tuesday ** \nIncrease your exposure to like-minded professionals\, gain referrals from a spiritual network and sharpen your networking skills with exclusive member resources. Develop lasting relationships that allow you to grow personally and professionally. Hosted by Lena Mamone. \nHow will you grow your business? \nRSVP Now!
URL:https://thespirituniversity.com/events/8253/
LOCATION:Gekos Grill & Pub\, 351 N Cattlemen Rd\, Sarasota\, 34232
ORGANIZER;CN="Victoria Ackerman":MAILTO:Light@VictoriaAckerman.com
END:VEVENT
BEGIN:VEVENT
DTSTART;TZID=America/New_York:20170711T120000
DTEND;TZID=America/New_York:20170711T130000
DTSTAMP:20260421T054300
CREATED:20170627T165537Z
LAST-MODIFIED:20170703T202411Z
UID:10016550-1499774400-1499778000@thespirituniversity.com
SUMMARY:Business Networking Group
DESCRIPTION:Connections Are Everything\n** Meets Every 2nd Tuesday ** \nIncrease your exposure to like-minded professionals\, gain referrals from a spiritual network and sharpen your networking skills with exclusive member resources. Develop lasting relationships that allow you to grow personally and professionally. Hosted by Lena Mamone. \nHow will you grow your business? \nRSVP Now!
URL:https://thespirituniversity.com/events/8150/
LOCATION:Gekos Grill & Pub\, 351 N Cattlemen Rd\, Sarasota\, 34232
ORGANIZER;CN="Victoria Ackerman":MAILTO:Light@VictoriaAckerman.com
END:VEVENT
END:VCALENDAR