BEGIN:VCALENDAR
VERSION:2.0
PRODID:-//thespirituniversity.com&#039;s Website - ECPv6.15.11//NONSGML v1.0//EN
CALSCALE:GREGORIAN
METHOD:PUBLISH
X-ORIGINAL-URL:https://thespirituniversity.com
X-WR-CALDESC:Events for thespirituniversity.com&#039;s Website
REFRESH-INTERVAL;VALUE=DURATION:PT1H
X-Robots-Tag:noindex
X-PUBLISHED-TTL:PT1H
BEGIN:VTIMEZONE
TZID:America/New_York
BEGIN:DAYLIGHT
TZOFFSETFROM:-0500
TZOFFSETTO:-0400
TZNAME:EDT
DTSTART:20170312T070000
END:DAYLIGHT
BEGIN:STANDARD
TZOFFSETFROM:-0400
TZOFFSETTO:-0500
TZNAME:EST
DTSTART:20171105T060000
END:STANDARD
BEGIN:DAYLIGHT
TZOFFSETFROM:-0500
TZOFFSETTO:-0400
TZNAME:EDT
DTSTART:20180311T070000
END:DAYLIGHT
BEGIN:STANDARD
TZOFFSETFROM:-0400
TZOFFSETTO:-0500
TZNAME:EST
DTSTART:20181104T060000
END:STANDARD
BEGIN:DAYLIGHT
TZOFFSETFROM:-0500
TZOFFSETTO:-0400
TZNAME:EDT
DTSTART:20190310T070000
END:DAYLIGHT
BEGIN:STANDARD
TZOFFSETFROM:-0400
TZOFFSETTO:-0500
TZNAME:EST
DTSTART:20191103T060000
END:STANDARD
END:VTIMEZONE
BEGIN:VEVENT
DTSTART;TZID=America/New_York:20180728T203000
DTEND;TZID=America/New_York:20180728T220000
DTSTAMP:20260422T211208
CREATED:20180709T221105Z
LAST-MODIFIED:20180709T225628Z
UID:10014589-1532809800-1532815200@thespirituniversity.com
SUMMARY:Full Moon Ghost Tour
DESCRIPTION:Historic Spanish Point has a 5\,000 year history of people living at its location\, making this a location of diverse\, rich history with thousands of years worth of legends and spirits! Hear stories of ghostly encounters\, intrigue and mystery as we explore the darker side of Historic Spanish Point. Visit the historic houses\, prehistoric burial mound\, and pioneer cemetery of this incredible 30-acre museum and environmental complex. Come explore in the moonlight! RSVP Here>
URL:https://thespirituniversity.com/events/full-moon-ghost-tour/
LOCATION:Historic Spanish Point\, 337 North Tamiami Trail\, Osprey\, FL\, 34229\, United States
CATEGORIES:Mediumship
ORGANIZER;CN="Victoria Ackerman":MAILTO:Light@VictoriaAckerman.com
END:VEVENT
END:VCALENDAR