BEGIN:VCALENDAR
VERSION:2.0
PRODID:-//thespirituniversity.com&#039;s Website - ECPv6.15.11//NONSGML v1.0//EN
CALSCALE:GREGORIAN
METHOD:PUBLISH
X-ORIGINAL-URL:https://thespirituniversity.com
X-WR-CALDESC:Events for thespirituniversity.com&#039;s Website
REFRESH-INTERVAL;VALUE=DURATION:PT1H
X-Robots-Tag:noindex
X-PUBLISHED-TTL:PT1H
BEGIN:VTIMEZONE
TZID:America/New_York
BEGIN:DAYLIGHT
TZOFFSETFROM:-0500
TZOFFSETTO:-0400
TZNAME:EDT
DTSTART:20170312T070000
END:DAYLIGHT
BEGIN:STANDARD
TZOFFSETFROM:-0400
TZOFFSETTO:-0500
TZNAME:EST
DTSTART:20171105T060000
END:STANDARD
BEGIN:DAYLIGHT
TZOFFSETFROM:-0500
TZOFFSETTO:-0400
TZNAME:EDT
DTSTART:20180311T070000
END:DAYLIGHT
BEGIN:STANDARD
TZOFFSETFROM:-0400
TZOFFSETTO:-0500
TZNAME:EST
DTSTART:20181104T060000
END:STANDARD
BEGIN:DAYLIGHT
TZOFFSETFROM:-0500
TZOFFSETTO:-0400
TZNAME:EDT
DTSTART:20190310T070000
END:DAYLIGHT
BEGIN:STANDARD
TZOFFSETFROM:-0400
TZOFFSETTO:-0500
TZNAME:EST
DTSTART:20191103T060000
END:STANDARD
BEGIN:DAYLIGHT
TZOFFSETFROM:-0500
TZOFFSETTO:-0400
TZNAME:EDT
DTSTART:20200308T070000
END:DAYLIGHT
BEGIN:STANDARD
TZOFFSETFROM:-0400
TZOFFSETTO:-0500
TZNAME:EST
DTSTART:20201101T060000
END:STANDARD
END:VTIMEZONE
BEGIN:VEVENT
DTSTART;TZID=America/New_York:20190406T100000
DTEND;TZID=America/New_York:20190406T160000
DTSTAMP:20260423T012211
CREATED:20180708T221906Z
LAST-MODIFIED:20190210T200403Z
UID:10020667-1554544800-1554566400@thespirituniversity.com
SUMMARY:Fairy Faire
DESCRIPTION:Celebrating the wonders of the natural world\, and all the beings that inhabit it. For all ages. \nFor Elfin & Sylvan Folk\, Wood Sprites & Faerie Folk\, and All you Humans who still Believe in Magic… \nExhibitor Information
URL:https://thespirituniversity.com/events/fairy-faire-2/
LOCATION:Payne Park Auditorium\, 2100 E Laurel St\, Sarasota\, 34237
CATEGORIES:Healing,Mediumship
ORGANIZER;CN="Victoria Ackerman":MAILTO:Light@VictoriaAckerman.com
END:VEVENT
BEGIN:VEVENT
DTSTART;TZID=America/New_York:20180623T100000
DTEND;TZID=America/New_York:20180623T160000
DTSTAMP:20260423T012211
CREATED:20180316T154805Z
LAST-MODIFIED:20180509T200222Z
UID:10014525-1529748000-1529769600@thespirituniversity.com
SUMMARY:Fairy Faire
DESCRIPTION:Celebrating the wonders of the natural world\, and all the beings that inhabit it. For all ages. \nThe Fairy Faire is an annual event for the community to enjoy. It is held on Saturday\, June 23. It is open to the public from 10:00 am to 4:00 pm. Held at Payne Park Auditorium\, conveniently located near S Washington Blvd (HWY 301) and Ringling Blvd (close to Fruitville Rd. and Main St.). \nFor Elfin & Sylvan Folk\, Wood Sprites & Faerie Folk\, and All you Humans who still Believe in Magic… \n \nFair House Contest Click Here \nExhibitor Booth
URL:https://thespirituniversity.com/events/fairy-faire/
LOCATION:Payne Park Auditorium\, 2100 E Laurel St\, Sarasota\, 34237
CATEGORIES:Healing,Mediumship
ORGANIZER;CN="Victoria Ackerman":MAILTO:Light@VictoriaAckerman.com
END:VEVENT
END:VCALENDAR