BEGIN:VCALENDAR
VERSION:2.0
PRODID:-//thespirituniversity.com&#039;s Website - ECPv6.15.11//NONSGML v1.0//EN
CALSCALE:GREGORIAN
METHOD:PUBLISH
X-ORIGINAL-URL:https://thespirituniversity.com
X-WR-CALDESC:Events for thespirituniversity.com&#039;s Website
REFRESH-INTERVAL;VALUE=DURATION:PT1H
X-Robots-Tag:noindex
X-PUBLISHED-TTL:PT1H
BEGIN:VTIMEZONE
TZID:America/New_York
BEGIN:DAYLIGHT
TZOFFSETFROM:-0500
TZOFFSETTO:-0400
TZNAME:EDT
DTSTART:20180311T070000
END:DAYLIGHT
BEGIN:STANDARD
TZOFFSETFROM:-0400
TZOFFSETTO:-0500
TZNAME:EST
DTSTART:20181104T060000
END:STANDARD
BEGIN:DAYLIGHT
TZOFFSETFROM:-0500
TZOFFSETTO:-0400
TZNAME:EDT
DTSTART:20190310T070000
END:DAYLIGHT
BEGIN:STANDARD
TZOFFSETFROM:-0400
TZOFFSETTO:-0500
TZNAME:EST
DTSTART:20191103T060000
END:STANDARD
BEGIN:DAYLIGHT
TZOFFSETFROM:-0500
TZOFFSETTO:-0400
TZNAME:EDT
DTSTART:20200308T070000
END:DAYLIGHT
BEGIN:STANDARD
TZOFFSETFROM:-0400
TZOFFSETTO:-0500
TZNAME:EST
DTSTART:20201101T060000
END:STANDARD
END:VTIMEZONE
BEGIN:VEVENT
DTSTART;TZID=America/New_York:20190718T120000
DTEND;TZID=America/New_York:20190718T130000
DTSTAMP:20260423T124850
CREATED:20190502T183632Z
LAST-MODIFIED:20190625T165324Z
UID:10020797-1563451200-1563454800@thespirituniversity.com
SUMMARY:Round Table For Your Business
DESCRIPTION:Hosted by The Spirit University and Whole You Magazine\, this is a business luncheon and discussion to explore possible business solutions for growth\, company exposure and out of the box ideas. Your host will be Shirley Smolko\, who holds a Bachelor’s of Science in Nursing\, a Master’s in Business Administration\, and an additional Master’s in the Science of Accounting. She will present these possibilities with you. Each month will have a different topic of discussion that is designed to enhance your business. We will be meeting on the third Thursday of each month. Seating is limited\, so please RSVP to reserve your seat for starting a great financial year! RSVP>
URL:https://thespirituniversity.com/events/round-table-for-your-business-5/
LOCATION:Perkins Restaurant\, 6023 14th St W\, Bradenton\, 34207
CATEGORIES:Healing
END:VEVENT
BEGIN:VEVENT
DTSTART;TZID=America/New_York:20190620T120000
DTEND;TZID=America/New_York:20190620T130000
DTSTAMP:20260423T124850
CREATED:20190502T183424Z
LAST-MODIFIED:20190507T171902Z
UID:10020796-1561032000-1561035600@thespirituniversity.com
SUMMARY:Round Table For Your Business
DESCRIPTION:Hosted by The Spirit University and Whole You Magazine\, this is a business luncheon and discussion to explore possible business solutions for growth\, company exposure and out of the box ideas. Your host will be Shirley Smolko\, who holds a Bachelor’s of Science in Nursing\, a Master’s in Business Administration\, and an additional Master’s in the Science of Accounting. She will present these possibilities with you. Each month will have a different topic of discussion that is designed to enhance your business. We will be meeting on the third Thursday of each month. Seating is limited\, so please RSVP to reserve your seat for starting a great financial year! RSVP>
URL:https://thespirituniversity.com/events/round-table-for-your-business-4/
LOCATION:Perkins Restaurant\, 6023 14th St W\, Bradenton\, 34207
CATEGORIES:Healing
END:VEVENT
BEGIN:VEVENT
DTSTART;TZID=America/New_York:20190516T120000
DTEND;TZID=America/New_York:20190516T130000
DTSTAMP:20260423T124850
CREATED:20190502T183238Z
LAST-MODIFIED:20190502T183301Z
UID:10020795-1558008000-1558011600@thespirituniversity.com
SUMMARY:Round Table For Your Business
DESCRIPTION:Hosted by The Spirit University and Whole You Magazine\, this is a business luncheon and discussion to explore possible business solutions for growth\, company exposure and out of the box ideas. Your host will be Shirley Smolko\, who holds a Bachelor’s of Science in Nursing\, a Master’s in Business Administration\, and an additional Master’s in the Science of Accounting. She will present these possibilities with you. Each month will have a different topic of discussion that is designed to enhance your business. We will be meeting on the third Thursday of each month. Seating is limited\, so please RSVP to reserve your seat for starting a great financial year! RSVP>
URL:https://thespirituniversity.com/events/round-table-for-your-business-3/
LOCATION:Perkins Restaurant\, 6023 14th St W\, Bradenton\, 34207
CATEGORIES:Healing
END:VEVENT
BEGIN:VEVENT
DTSTART;TZID=America/New_York:20190418T123000
DTEND;TZID=America/New_York:20190418T133000
DTSTAMP:20260423T124850
CREATED:20190313T151344Z
LAST-MODIFIED:20190326T154357Z
UID:10020778-1555590600-1555594200@thespirituniversity.com
SUMMARY:Round Table For Your Business
DESCRIPTION:This is a business luncheon and discussion\, hosted by The Spirit University and Whole You Magazine\, to explore possible business solutions for growth\, company exposure\, and out of the box ideas! \nYour host will be Chris Slaney who holds a Masters Degree in Hospitality. He will present these possibilities with you. Each month will have a different topic of discussion that is designed to enhance your business. \nThe luncheon is at the Perkin’s Restaurant\, 6023 14th St W\, Bradenton\, FL 34207. We will be meeting on the third Thursday of each month. Seating is limited\, so please RSVP to reserve your seat for starting a great financial year! To RSVP email Light@VictoriaAckerman.com with “Round Table”. RSVP>
URL:https://thespirituniversity.com/events/round-table-for-your-business-2/
LOCATION:Perkins Restaurant\, 6023 14th St W\, Bradenton\, 34207
END:VEVENT
BEGIN:VEVENT
DTSTART;TZID=America/New_York:20190117T123000
DTEND;TZID=America/New_York:20190117T133000
DTSTAMP:20260423T124850
CREATED:20181206T193752Z
LAST-MODIFIED:20190115T152206Z
UID:10020742-1547728200-1547731800@thespirituniversity.com
SUMMARY:Round Table For Your Business
DESCRIPTION:This is a business luncheon and discussion\, hosted by The Spirit University and Whole You Magazine\, to explore possible business solutions for growth\, company exposure\, and out of the box ideas! \nYour host will be Chris Slaney who holds a Masters Degree in Hospitality. He will present these possibilities with you. Each month will have a different topic of discussion that is designed to enhance your business. \nThe luncheon is at the Perkin’s Restaurant\, 6023 14th St W\, Bradenton\, FL 34207. We will be meeting on the third Thursday of each month. Seating is limited\, so please RSVP to reserve your seat for starting a great financial year! To RSVP email Light@VictoriaAckerman.com with “Round Table”.
URL:https://thespirituniversity.com/events/round-table-for-your-business/2019-01-17/
LOCATION:Perkins Restaurant\, 6023 14th St W\, Bradenton\, 34207
END:VEVENT
END:VCALENDAR