BEGIN:VCALENDAR
VERSION:2.0
PRODID:-//thespirituniversity.com&#039;s Website - ECPv6.15.11//NONSGML v1.0//EN
CALSCALE:GREGORIAN
METHOD:PUBLISH
X-WR-CALNAME:thespirituniversity.com&#039;s Website
X-ORIGINAL-URL:https://thespirituniversity.com
X-WR-CALDESC:Events for thespirituniversity.com&#039;s Website
REFRESH-INTERVAL;VALUE=DURATION:PT1H
X-Robots-Tag:noindex
X-PUBLISHED-TTL:PT1H
BEGIN:VTIMEZONE
TZID:America/New_York
BEGIN:DAYLIGHT
TZOFFSETFROM:-0500
TZOFFSETTO:-0400
TZNAME:EDT
DTSTART:20160313T070000
END:DAYLIGHT
BEGIN:STANDARD
TZOFFSETFROM:-0400
TZOFFSETTO:-0500
TZNAME:EST
DTSTART:20161106T060000
END:STANDARD
BEGIN:DAYLIGHT
TZOFFSETFROM:-0500
TZOFFSETTO:-0400
TZNAME:EDT
DTSTART:20170312T070000
END:DAYLIGHT
BEGIN:STANDARD
TZOFFSETFROM:-0400
TZOFFSETTO:-0500
TZNAME:EST
DTSTART:20171105T060000
END:STANDARD
BEGIN:DAYLIGHT
TZOFFSETFROM:-0500
TZOFFSETTO:-0400
TZNAME:EDT
DTSTART:20180311T070000
END:DAYLIGHT
BEGIN:STANDARD
TZOFFSETFROM:-0400
TZOFFSETTO:-0500
TZNAME:EST
DTSTART:20181104T060000
END:STANDARD
BEGIN:DAYLIGHT
TZOFFSETFROM:-0500
TZOFFSETTO:-0400
TZNAME:EDT
DTSTART:20190310T070000
END:DAYLIGHT
BEGIN:STANDARD
TZOFFSETFROM:-0400
TZOFFSETTO:-0500
TZNAME:EST
DTSTART:20191103T060000
END:STANDARD
END:VTIMEZONE
BEGIN:VEVENT
DTSTART;TZID=America/New_York:20180803T170000
DTEND;TZID=America/New_York:20180803T180000
DTSTAMP:20260422T074531
CREATED:20180730T151800Z
LAST-MODIFIED:20180730T151800Z
UID:10016259-1533315600-1533319200@thespirituniversity.com
SUMMARY:Lift Your Spirits – Social Event
DESCRIPTION:You are invited to socialize\, mix and mingle! \nHave you ever wondered about the spiritual world? Let’s get to know one another in an informal setting. \nGet together with others who share your interests\, in a casual atmosphere over tea\, coffee or drinks. Network\, build friendships\, compare experiences\, learn and engage with others in the Spirit community. Discuss your goals. Talk with facilitators\, staff or students to find out more about The Spirit University. You may even discover interests you didn’t even know you had! \nWe would like to meet with you! Come join us every Friday  from 5:00-6:00 pm at Primo’s (right next door to The Spirit University) for snacks\, beverages and scintillating conversation. After that\, attend a class or workshop! Subscribe to our newsletter or visit TheSpiritU.com for more information on classes and workshops. \nGet to know your kindred spirits. See you there!
URL:https://thespirituniversity.com/events/lift-your-spirits-social-event-5/2018-08-03/
LOCATION:Primo’s Restaurant\, 8076 N. Tamiami Trail\, Sarasota\, 34243
CATEGORIES:Healing
END:VEVENT
BEGIN:VEVENT
DTSTART;TZID=America/New_York:20180713T170000
DTEND;TZID=America/New_York:20180713T180000
DTSTAMP:20260422T074531
CREATED:20180709T140115Z
LAST-MODIFIED:20180709T140115Z
UID:10020672-1531501200-1531504800@thespirituniversity.com
SUMMARY:Lift Your Spirits – Social Event
DESCRIPTION:You are invited to socialize\, mix and mingle! \nHave you ever wondered about the spiritual world? Let’s get to know one another in an informal setting. \nGet together with others who share your interests\, in a casual atmosphere over tea\, coffee or drinks. Network\, build friendships\, compare experiences\, learn and engage with others in the Spirit community. Discuss your goals. Talk with facilitators\, staff or students to find out more about The Spirit University. You may even discover interests you didn’t even know you had! \nWe would like to meet with you! Come join us every Friday  from 5:00-6:00 pm at Primo’s (right next door to The Spirit University) for snacks\, beverages and scintillating conversation. After that\, attend a class or workshop! Subscribe to our newsletter or visit TheSpiritU.com for more information on classes and workshops. \nGet to know your kindred spirits. See you there!
URL:https://thespirituniversity.com/events/lift-your-spirits-social-event-4/2018-07-13/
LOCATION:Primo’s Restaurant\, 8076 N. Tamiami Trail\, Sarasota\, 34243
CATEGORIES:Healing
ORGANIZER;CN="Victoria Ackerman":MAILTO:Light@VictoriaAckerman.com
END:VEVENT
BEGIN:VEVENT
DTSTART;TZID=America/New_York:20180608T170000
DTEND;TZID=America/New_York:20180608T180000
DTSTAMP:20260422T074531
CREATED:20180503T155536Z
LAST-MODIFIED:20180503T155536Z
UID:10020633-1528477200-1528480800@thespirituniversity.com
SUMMARY:Lift Your Spirits - Social Event
DESCRIPTION:You are invited to socialize\, mix and mingle! \nHave you ever wondered about the spiritual world? Let’s get to know one another in an informal setting. \nGet together with others who share your interests\, in a casual atmosphere over tea\, coffee or drinks. Network\, build friendships\, compare experiences\, learn and engage with others in the Spirit community. Discuss your goals. Talk with facilitators\, staff or students to find out more about The Spirit University. You may even discover interests you didn’t even know you had! \nWe would like to meet with you! Come join us every Friday  from 5:00-6:00 pm at Primo’s (right next door to The Spirit University) for snacks\, beverages and scintillating conversation. After that\, attend a class or workshop! Subscribe to our newsletter or visit TheSpiritU.com for more information on classes and workshops. \nGet to know your kindred spirits. See you there!
URL:https://thespirituniversity.com/events/lift-your-spirits-social-event-2/2018-06-08/
LOCATION:Primo’s Restaurant\, 8076 N. Tamiami Trail\, Sarasota\, 34243
CATEGORIES:Healing
ORGANIZER;CN="Victoria Ackerman":MAILTO:Light@VictoriaAckerman.com
END:VEVENT
BEGIN:VEVENT
DTSTART;TZID=America/New_York:20180420T170000
DTEND;TZID=America/New_York:20180420T180000
DTSTAMP:20260422T074531
CREATED:20180411T170202Z
LAST-MODIFIED:20180413T203432Z
UID:10014539-1524243600-1524247200@thespirituniversity.com
SUMMARY:Lift Your Spirits - Social Event
DESCRIPTION:You are invited to socialize\, mix and mingle! \nHave you ever wondered about the spiritual world? Let’s get to know one another in an informal setting. \nGet together with others who share your interests\, in a casual atmosphere over tea\, coffee or drinks. Network\, build friendships\, compare experiences\, learn and engage with others in the Spirit community. Discuss your goals. Talk with facilitators\, staff or students to find out more about The Spirit University. You may even discover interests you didn’t even know you had! \nWe would like to meet with you! Come join us every Friday  from 5:00-6:00 pm at Primo’s (right next door to The Spirit University) for snacks\, beverages and scintillating conversation. After that\, attend a class or workshop! Subscribe to our newsletter or visit TheSpiritU.com for more information on classes and workshops. \nGet to know your kindred spirits. See you there!
URL:https://thespirituniversity.com/events/lift-your-spirits-social-event/2018-04-20/
LOCATION:Primo’s Restaurant\, 8076 N. Tamiami Trail\, Sarasota\, 34243
CATEGORIES:Healing
ORGANIZER;CN="Victoria Ackerman":MAILTO:Light@VictoriaAckerman.com
END:VEVENT
BEGIN:VEVENT
DTSTART;TZID=America/New_York:20171209T190000
DTEND;TZID=America/New_York:20171209T210000
DTSTAMP:20260422T074531
CREATED:20170817T023632Z
LAST-MODIFIED:20171205T142812Z
UID:10016735-1512846000-1512853200@thespirituniversity.com
SUMMARY:Spirit of Holidays Messages Party
DESCRIPTION:. \n5 Top Psychic Mediums\, 1 Holiday Evening\nMark your calendar\, this is one event you don’t want to miss!\nCome celebrate the Spirit of the holidays with a warm welcome to all. At our holiday gala all guests will receive heartwarming and validating information from a top psychic medium. Enjoy food and wine\, and learn about upcoming news and events. \n Holiday Gala includes:\n\n\nSpirit Messages from 5 Top Psychic Mediums\n\n\nEveryone receives a personal message\n\n\nDinner Buffet\, Wine\, Desserts\n\n\nGift Baskets Raffle\n\n\nLive Music\, Gaiety\, and Fun\n\n\nParticipate in the Gift Basket Raffle! \n\nHelp Support The Spirit University by buying a raffle ticket for a gift basket from one of our sponsors!\n1 Ticket: $2\n3 Tickets: $5\n8 Tickets: $10\n Space is limited (we were at overflow capacity last year)\, so be sure to reserve your place early\nGET TICKETS HERE!
URL:https://thespirituniversity.com/events/spirit-of-holidays/
LOCATION:Primo’s Restaurant\, 8076 N. Tamiami Trail\, Sarasota\, 34243
CATEGORIES:Healing,Mediumship
ORGANIZER;CN="Victoria Ackerman":MAILTO:Light@VictoriaAckerman.com
END:VEVENT
END:VCALENDAR