BEGIN:VCALENDAR
VERSION:2.0
PRODID:-//thespirituniversity.com&#039;s Website - ECPv6.15.11//NONSGML v1.0//EN
CALSCALE:GREGORIAN
METHOD:PUBLISH
X-WR-CALNAME:thespirituniversity.com&#039;s Website
X-ORIGINAL-URL:https://thespirituniversity.com
X-WR-CALDESC:Events for thespirituniversity.com&#039;s Website
REFRESH-INTERVAL;VALUE=DURATION:PT1H
X-Robots-Tag:noindex
X-PUBLISHED-TTL:PT1H
BEGIN:VTIMEZONE
TZID:America/New_York
BEGIN:DAYLIGHT
TZOFFSETFROM:-0500
TZOFFSETTO:-0400
TZNAME:EDT
DTSTART:20140309T070000
END:DAYLIGHT
BEGIN:STANDARD
TZOFFSETFROM:-0400
TZOFFSETTO:-0500
TZNAME:EST
DTSTART:20141102T060000
END:STANDARD
BEGIN:DAYLIGHT
TZOFFSETFROM:-0500
TZOFFSETTO:-0400
TZNAME:EDT
DTSTART:20150308T070000
END:DAYLIGHT
BEGIN:STANDARD
TZOFFSETFROM:-0400
TZOFFSETTO:-0500
TZNAME:EST
DTSTART:20151101T060000
END:STANDARD
BEGIN:DAYLIGHT
TZOFFSETFROM:-0500
TZOFFSETTO:-0400
TZNAME:EDT
DTSTART:20160313T070000
END:DAYLIGHT
BEGIN:STANDARD
TZOFFSETFROM:-0400
TZOFFSETTO:-0500
TZNAME:EST
DTSTART:20161106T060000
END:STANDARD
BEGIN:DAYLIGHT
TZOFFSETFROM:-0500
TZOFFSETTO:-0400
TZNAME:EDT
DTSTART:20170312T070000
END:DAYLIGHT
BEGIN:STANDARD
TZOFFSETFROM:-0400
TZOFFSETTO:-0500
TZNAME:EST
DTSTART:20171105T060000
END:STANDARD
BEGIN:DAYLIGHT
TZOFFSETFROM:-0500
TZOFFSETTO:-0400
TZNAME:EDT
DTSTART:20180311T070000
END:DAYLIGHT
BEGIN:STANDARD
TZOFFSETFROM:-0400
TZOFFSETTO:-0500
TZNAME:EST
DTSTART:20181104T060000
END:STANDARD
END:VTIMEZONE
BEGIN:VEVENT
DTSTART;TZID=America/New_York:20170923T110000
DTEND;TZID=America/New_York:20170923T170000
DTSTAMP:20260424T102700
CREATED:20161112T151143Z
LAST-MODIFIED:20170805T215021Z
UID:10016444-1506164400-1506186000@thespirituniversity.com
SUMMARY:Mystical Bazaar 2017
DESCRIPTION:~ Mark Your Calendar! ~\n3rd Annual Mystical Bazaar: Saturday\, September 23\, 2017 \n \nCome for a day of fun and mystical connections and experiences! The Sarasota Mystical Bazaar is an annual event for the public to enjoy. It is a marketplace hosting many different things: Vendors\, Psychic Readers\, Speakers\, Message Gallery\, Healers\, Aura Photos\, Gemstones and Jewelry\, Metaphysical Items. \nWHAT MIGHT YOU EXPERIENCE? \nA Main Stage with entertainment and informative seminars including healing\, health\, physical and emotional support\, intuition\, and additional topics you won’t want to miss! \nOver 70 Exhibits with products and services. \nPsychic and Intuitive Readers including Tarot\, Palm\, Medium\, and more. \nMystical Dancers and Artists who weave through the crowd at various times throughout the day. \nMeet and Greets with national celebrities. \nMistico the live Fortune Teller “Machine” who provides a spoken fortune and dispenses a printed fortune in the form of a paper card. \nPrizes and Giveaways Take your turn and spin the wheel for a fun surprise! \nWe have new features and exhibitors being added to our lineup every day. This is the most comprehensive and unique mystical bazaar in Florida. So\, beat the heat and get indoors to enjoy some fun\, psychic readings\, connections and enrichment at the 2017 Mystical Bazaar!
URL:https://thespirituniversity.com/events/mystical-bazaar-2/
LOCATION:Sarasota Municipal Auditorium\, 801 North Tamiami Trail\, Sarasota\, FL\, 34236\, United States
CATEGORIES:Healing,Mediumship
ORGANIZER;CN="Victoria Ackerman":MAILTO:Light@VictoriaAckerman.com
END:VEVENT
BEGIN:VEVENT
DTSTART;TZID=America/New_York:20160924T110000
DTEND;TZID=America/New_York:20160924T170000
DTSTAMP:20260424T102700
CREATED:20151123T205724Z
LAST-MODIFIED:20160412T174952Z
UID:10016339-1474714800-1474736400@thespirituniversity.com
SUMMARY:Mystical Bazaar 2016
DESCRIPTION:The Next Mystical Bazaar will be on September 24\, 2016\nMark Your Calendar! \nwww.MysticalBazaar2016.com
URL:https://thespirituniversity.com/events/mystical-bazaar-2016/
LOCATION:Sarasota Municipal Auditorium\, 801 North Tamiami Trail\, Sarasota\, FL\, 34236\, United States
CATEGORIES:Healing,Mediumship
ORGANIZER;CN="Victoria Ackerman":MAILTO:Light@VictoriaAckerman.com
END:VEVENT
BEGIN:VEVENT
DTSTART;TZID=America/New_York:20150926T110000
DTEND;TZID=America/New_York:20150926T170000
DTSTAMP:20260424T102700
CREATED:20150121T173107Z
LAST-MODIFIED:20150824T222324Z
UID:10014575-1443265200-1443286800@thespirituniversity.com
SUMMARY:Mystical Bazaar
DESCRIPTION:~ Mark Your Calendar! ~\nwww.MysticalBazaar2015.com 
URL:https://thespirituniversity.com/events/mystical-bazaar/
LOCATION:Sarasota Municipal Auditorium\, 801 North Tamiami Trail\, Sarasota\, FL\, 34236\, United States
CATEGORIES:Healing,Mediumship
ORGANIZER;CN="Victoria Ackerman":MAILTO:Light@VictoriaAckerman.com
END:VEVENT
END:VCALENDAR