BEGIN:VCALENDAR
VERSION:2.0
PRODID:-//thespirituniversity.com&#039;s Website - ECPv6.15.11//NONSGML v1.0//EN
CALSCALE:GREGORIAN
METHOD:PUBLISH
X-WR-CALNAME:thespirituniversity.com&#039;s Website
X-ORIGINAL-URL:https://thespirituniversity.com
X-WR-CALDESC:Events for thespirituniversity.com&#039;s Website
REFRESH-INTERVAL;VALUE=DURATION:PT1H
X-Robots-Tag:noindex
X-PUBLISHED-TTL:PT1H
BEGIN:VTIMEZONE
TZID:America/New_York
BEGIN:DAYLIGHT
TZOFFSETFROM:-0500
TZOFFSETTO:-0400
TZNAME:EDT
DTSTART:20120311T070000
END:DAYLIGHT
BEGIN:STANDARD
TZOFFSETFROM:-0400
TZOFFSETTO:-0500
TZNAME:EST
DTSTART:20121104T060000
END:STANDARD
BEGIN:DAYLIGHT
TZOFFSETFROM:-0500
TZOFFSETTO:-0400
TZNAME:EDT
DTSTART:20130310T070000
END:DAYLIGHT
BEGIN:STANDARD
TZOFFSETFROM:-0400
TZOFFSETTO:-0500
TZNAME:EST
DTSTART:20131103T060000
END:STANDARD
BEGIN:DAYLIGHT
TZOFFSETFROM:-0500
TZOFFSETTO:-0400
TZNAME:EDT
DTSTART:20140309T070000
END:DAYLIGHT
BEGIN:STANDARD
TZOFFSETFROM:-0400
TZOFFSETTO:-0500
TZNAME:EST
DTSTART:20141102T060000
END:STANDARD
BEGIN:DAYLIGHT
TZOFFSETFROM:-0500
TZOFFSETTO:-0400
TZNAME:EDT
DTSTART:20150308T070000
END:DAYLIGHT
BEGIN:STANDARD
TZOFFSETFROM:-0400
TZOFFSETTO:-0500
TZNAME:EST
DTSTART:20151101T060000
END:STANDARD
BEGIN:DAYLIGHT
TZOFFSETFROM:-0500
TZOFFSETTO:-0400
TZNAME:EDT
DTSTART:20160313T070000
END:DAYLIGHT
BEGIN:STANDARD
TZOFFSETFROM:-0400
TZOFFSETTO:-0500
TZNAME:EST
DTSTART:20161106T060000
END:STANDARD
BEGIN:DAYLIGHT
TZOFFSETFROM:-0500
TZOFFSETTO:-0400
TZNAME:EDT
DTSTART:20170312T070000
END:DAYLIGHT
BEGIN:STANDARD
TZOFFSETFROM:-0400
TZOFFSETTO:-0500
TZNAME:EST
DTSTART:20171105T060000
END:STANDARD
BEGIN:DAYLIGHT
TZOFFSETFROM:-0500
TZOFFSETTO:-0400
TZNAME:EDT
DTSTART:20180311T070000
END:DAYLIGHT
BEGIN:STANDARD
TZOFFSETFROM:-0400
TZOFFSETTO:-0500
TZNAME:EST
DTSTART:20181104T060000
END:STANDARD
BEGIN:DAYLIGHT
TZOFFSETFROM:-0500
TZOFFSETTO:-0400
TZNAME:EDT
DTSTART:20190310T070000
END:DAYLIGHT
BEGIN:STANDARD
TZOFFSETFROM:-0400
TZOFFSETTO:-0500
TZNAME:EST
DTSTART:20191103T060000
END:STANDARD
BEGIN:DAYLIGHT
TZOFFSETFROM:-0500
TZOFFSETTO:-0400
TZNAME:EDT
DTSTART:20200308T070000
END:DAYLIGHT
BEGIN:STANDARD
TZOFFSETFROM:-0400
TZOFFSETTO:-0500
TZNAME:EST
DTSTART:20201101T060000
END:STANDARD
END:VTIMEZONE
BEGIN:VEVENT
DTSTART;TZID=America/New_York:20190928T110000
DTEND;TZID=America/New_York:20190929T180000
DTSTAMP:20260421T195805
CREATED:20190319T165905Z
LAST-MODIFIED:20190709T145741Z
UID:10020782-1569668400-1569780000@thespirituniversity.com
SUMMARY:Mystical Bazaar
DESCRIPTION:Come for a day of fun and mystical connections and experiences! The Sarasota Mystical Bazaar is an annual event for the public to enjoy. Only $5 admission. It is a marketplace hosting many different things: Vendors\, Psychic Readers\, Speakers\, Message Gallery\, Healers\, Aura Photos\, Gemstones and Jewelry\, Metaphysical Items. \n.  \nWHAT MIGHT YOU EXPERIENCE?\nA Main Stage with entertainment and informative seminars including healing\, health\, physical and emotional support\, intuition\, and additional topics you won’t want to miss! \nOver 70 Exhibits with products and services. \nNational and Local Speakers \nPsychic and Intuitive Readers including Tarot\, Palm\, Medium\, and more. \nMystical Dancers and Artists who weave through the crowd at various times throughout the day. \nMeet and Greets with national celebrities. \nMistico the live Fortune Teller “Machine” who provides a spoken fortune and dispenses a printed fortune in the form of a paper card. \nPhoto Booth have your photo takes with Mystical Bazaar characters if you’d like. \nPrizes and Giveaways Take your turn and spin the wheel for a fun surprise! \nWe have new features and exhibitors being added to our lineup every day. This is the most comprehensive and unique mystical bazaar in Florida. So\, beat the heat and get indoors to enjoy some fun\, psychic readings\, connections and enrichment at the 2019 Mystical Bazaar! \nExhibitor Information
URL:https://thespirituniversity.com/events/mystical-bazaar-4/
LOCATION:Sarasota Municipal Auditorium\, 801 N Tamiami Trail‎\, Sarasota\, 34236
CATEGORIES:Healing,Mediumship
END:VEVENT
BEGIN:VEVENT
DTSTART;TZID=America/New_York:20180922T110000
DTEND;TZID=America/New_York:20180923T180000
DTSTAMP:20260421T195805
CREATED:20180405T183517Z
LAST-MODIFIED:20180412T183436Z
UID:10020622-1537614000-1537725600@thespirituniversity.com
SUMMARY:Mystical Bazaar
DESCRIPTION:~ Mark Your Calendar! ~\n4th Annual Mystical Bazaar: Sat & Sun\, Sep 22 & 23\, 2018 \n \nCome for a day of fun and mystical connections and experiences! The Sarasota Mystical Bazaar is an annual event for the public to enjoy. It is a marketplace hosting many different things: Vendors\, Psychic Readers\, Speakers\, Message Gallery\, Healers\, Aura Photos\, Gemstones and Jewelry\, Metaphysical Items. \nWHAT MIGHT YOU EXPERIENCE? \nA Main Stage with entertainment and informative seminars including healing\, health\, physical and emotional support\, intuition\, and additional topics you won’t want to miss! \nOver 70 Exhibits with products and services. \nPsychic and Intuitive Readers including Tarot\, Palm\, Medium\, and more. \nMystical Dancers and Artists who weave through the crowd at various times throughout the day. \nMeet and Greets with national celebrities. \nMistico the live Fortune Teller “Machine” who provides a spoken fortune and dispenses a printed fortune in the form of a paper card. \nPrizes and Giveaways Take your turn and spin the wheel for a fun surprise! \nWe have new features and exhibitors being added to our lineup every day. This is the most comprehensive and unique mystical bazaar in Florida. So\, beat the heat and get indoors to enjoy some fun\, psychic readings\, connections and enrichment at the 2018 Mystical Bazaar! \nExhibitor Booth
URL:https://thespirituniversity.com/events/mystical-bazaar-3/
LOCATION:Sarasota Municipal Auditorium\, 801 N Tamiami Trail‎\, Sarasota\, 34236
CATEGORIES:Healing,Mediumship
ORGANIZER;CN="Victoria Ackerman":MAILTO:Light@VictoriaAckerman.com
END:VEVENT
BEGIN:VEVENT
DTSTART;TZID=America/New_York:20130727T110000
DTEND;TZID=America/New_York:20130727T190000
DTSTAMP:20260421T195805
CREATED:20130720T014643Z
LAST-MODIFIED:20130720T014741Z
UID:10014420-1374922800-1374951600@thespirituniversity.com
SUMMARY:Come Visit our Booth at the Sarasota Mystic Faire
DESCRIPTION:Stop by the booth and enter to Win one of 3 awesome prizes! A FREE 30 minute Mediumistic reading\, a 30 minute Psychic Intuitive reading\, or a class/ workshop at The Spirit University!!!  \n \nWe will be there with information about upcoming events. TSU presents local and International Mediums\, Healers and Educators providing exceptional classes and workshops throughout the year. This is an amazing Center that promotes and supports spiritual growth. Every person is treated with love\, care and respect\, which is essential to exploring the depth of one’s humanity and potential. \nCome out and join us\, we will be giving a lecture on “The Why’s and How’s of Mediumship” ~ Mediumship: for grief\, closure\, support\, connection. we will be covering Mediumship ethics and the responsibilities of the sitter. We will have debut books for sale by Local Authors: Mark Sanders and Shanna Spalding St. Clair.
URL:https://thespirituniversity.com/events/come-visit-our-booth-at-the-sarasota-mystic-faire-2/
LOCATION:Sarasota Municipal Auditorium\, 801 N Tamiami Trail‎\, Sarasota\, 34236
CATEGORIES:Healing,Mediumship
ORGANIZER;CN="Lori Marshall":MAILTO:info@continuityoflife.com
END:VEVENT
END:VCALENDAR