BEGIN:VCALENDAR
VERSION:2.0
PRODID:-//thespirituniversity.com&#039;s Website - ECPv6.15.11//NONSGML v1.0//EN
CALSCALE:GREGORIAN
METHOD:PUBLISH
X-WR-CALNAME:thespirituniversity.com&#039;s Website
X-ORIGINAL-URL:https://thespirituniversity.com
X-WR-CALDESC:Events for thespirituniversity.com&#039;s Website
REFRESH-INTERVAL;VALUE=DURATION:PT1H
X-Robots-Tag:noindex
X-PUBLISHED-TTL:PT1H
BEGIN:VTIMEZONE
TZID:America/New_York
BEGIN:DAYLIGHT
TZOFFSETFROM:-0500
TZOFFSETTO:-0400
TZNAME:EDT
DTSTART:20160313T070000
END:DAYLIGHT
BEGIN:STANDARD
TZOFFSETFROM:-0400
TZOFFSETTO:-0500
TZNAME:EST
DTSTART:20161106T060000
END:STANDARD
BEGIN:DAYLIGHT
TZOFFSETFROM:-0500
TZOFFSETTO:-0400
TZNAME:EDT
DTSTART:20170312T070000
END:DAYLIGHT
BEGIN:STANDARD
TZOFFSETFROM:-0400
TZOFFSETTO:-0500
TZNAME:EST
DTSTART:20171105T060000
END:STANDARD
BEGIN:DAYLIGHT
TZOFFSETFROM:-0500
TZOFFSETTO:-0400
TZNAME:EDT
DTSTART:20180311T070000
END:DAYLIGHT
BEGIN:STANDARD
TZOFFSETFROM:-0400
TZOFFSETTO:-0500
TZNAME:EST
DTSTART:20181104T060000
END:STANDARD
END:VTIMEZONE
BEGIN:VEVENT
DTSTART;TZID=America/New_York:20171019T191500
DTEND;TZID=America/New_York:20171019T200000
DTSTAMP:20260422T014808
CREATED:20171010T004813Z
LAST-MODIFIED:20171010T010443Z
UID:10014479-1508440500-1508443200@thespirituniversity.com
SUMMARY:TELESEMINAR: Physical Mediumship with Victoria Ackerman
DESCRIPTION:Free Teleseminar\nYou Are Invited!\n\nA physical medium produces physical evidence of connection with the spirit world to observers\, or “sitters\,” in a dimly lit\, sometimes dark room. During a seance\, or physical mediumship circle\, rare phenomena such as direct voice\, apports\, levitation\, knocking or rapping\, spirit lights\, and materialization may commence. \nGet your questions answered as we discuss the topic of physical mediumship. Victoria Ackerman will talk about what physical mediumship is (and isn’t)\, discuss successes and pitfalls of her eight-year journey into this rare and fascinating realm. She will discuss what is involved in producing phenomena yourself. Victoria is the founder and an educator at The Spirit University. She is also a mental medium and a demonstrating evidential medium. \nJoin us on this exciting teleseminar on 10/19/17 at 7:15pm\nCall 712-770-8064. Then enter conference code 913483 \n–Still want more? Attend Old-Time Séance Techniques workshop next Tuesday. Scroll down to October 23rd for details. — \n 
URL:https://thespirituniversity.com/events/teleseminar-physical-mediumship/
LOCATION:Teleseminar: Call 712-770-8064. Then enter conference code 913483
CATEGORIES:Mediumship
ORGANIZER;CN="Victoria Ackerman":MAILTO:Light@VictoriaAckerman.com
END:VEVENT
BEGIN:VEVENT
DTSTART;TZID=America/New_York:20170301T191500
DTEND;TZID=America/New_York:20170301T200000
DTSTAMP:20260422T014808
CREATED:20170222T164917Z
LAST-MODIFIED:20170301T192041Z
UID:10016495-1488395700-1488398400@thespirituniversity.com
SUMMARY:TELESEMINAR: Sound Healing
DESCRIPTION:Free Teleseminar\nYou Are Invited!\nSound has been utilized in various cultures for thousands of years as a tool for healing. It not only helps with inducing relaxation\, but also has a way of moving through areas of blockage. These energetic blockage areas can be located in our physical bodies\, our subtle bodies\, or both. Our body\, mind and spirit always want to be moving in a direction toward balance. Sound has a way of helping us get to the source of this inner peace we all desire. \nGet your questions answered as we discuss the topic of Sound Healing with Robin Richardson. Robin holds a Master’s Degree and is a Florida licensed Mental Health Counselor. Her credentials also include being a Certified Clinical Trauma Professional\, Certified Rapid Resolution Trauma Specialist\, and a Certified Clinical Hypnotherapist. \nJoin us on this exciting teleseminar on 3/1/17 at 7:15pm\n Call 712-770-8064. Then enter conference code 913483 \n–Still want more? Attend the Sound: The Sacred Language of Healing workshop this Sunday. Scroll down to March 5th for details. —
URL:https://thespirituniversity.com/events/teleseminar-sound-healing/
LOCATION:Teleseminar: Call 712-770-8064. Then enter conference code 913483
CATEGORIES:Healing
ORGANIZER;CN="Victoria Ackerman":MAILTO:Light@VictoriaAckerman.com
END:VEVENT
END:VCALENDAR