BEGIN:VCALENDAR
VERSION:2.0
PRODID:-//thespirituniversity.com&#039;s Website - ECPv6.15.11//NONSGML v1.0//EN
CALSCALE:GREGORIAN
METHOD:PUBLISH
X-WR-CALNAME:thespirituniversity.com&#039;s Website
X-ORIGINAL-URL:https://thespirituniversity.com
X-WR-CALDESC:Events for thespirituniversity.com&#039;s Website
REFRESH-INTERVAL;VALUE=DURATION:PT1H
X-Robots-Tag:noindex
X-PUBLISHED-TTL:PT1H
BEGIN:VTIMEZONE
TZID:America/New_York
BEGIN:DAYLIGHT
TZOFFSETFROM:-0500
TZOFFSETTO:-0400
TZNAME:EDT
DTSTART:20120311T070000
END:DAYLIGHT
BEGIN:STANDARD
TZOFFSETFROM:-0400
TZOFFSETTO:-0500
TZNAME:EST
DTSTART:20121104T060000
END:STANDARD
BEGIN:DAYLIGHT
TZOFFSETFROM:-0500
TZOFFSETTO:-0400
TZNAME:EDT
DTSTART:20130310T070000
END:DAYLIGHT
BEGIN:STANDARD
TZOFFSETFROM:-0400
TZOFFSETTO:-0500
TZNAME:EST
DTSTART:20131103T060000
END:STANDARD
BEGIN:DAYLIGHT
TZOFFSETFROM:-0500
TZOFFSETTO:-0400
TZNAME:EDT
DTSTART:20140309T070000
END:DAYLIGHT
BEGIN:STANDARD
TZOFFSETFROM:-0400
TZOFFSETTO:-0500
TZNAME:EST
DTSTART:20141102T060000
END:STANDARD
BEGIN:DAYLIGHT
TZOFFSETFROM:-0500
TZOFFSETTO:-0400
TZNAME:EDT
DTSTART:20150308T070000
END:DAYLIGHT
BEGIN:STANDARD
TZOFFSETFROM:-0400
TZOFFSETTO:-0500
TZNAME:EST
DTSTART:20151101T060000
END:STANDARD
BEGIN:DAYLIGHT
TZOFFSETFROM:-0500
TZOFFSETTO:-0400
TZNAME:EDT
DTSTART:20160313T070000
END:DAYLIGHT
BEGIN:STANDARD
TZOFFSETFROM:-0400
TZOFFSETTO:-0500
TZNAME:EST
DTSTART:20161106T060000
END:STANDARD
BEGIN:DAYLIGHT
TZOFFSETFROM:-0500
TZOFFSETTO:-0400
TZNAME:EDT
DTSTART:20170312T070000
END:DAYLIGHT
BEGIN:STANDARD
TZOFFSETFROM:-0400
TZOFFSETTO:-0500
TZNAME:EST
DTSTART:20171105T060000
END:STANDARD
END:VTIMEZONE
BEGIN:VEVENT
DTSTART;TZID=America/New_York:20161210T190000
DTEND;TZID=America/New_York:20161210T210000
DTSTAMP:20260421T032553
CREATED:20160719T204244Z
LAST-MODIFIED:20161207T174219Z
UID:10016410-1481396400-1481403600@thespirituniversity.com
SUMMARY:Spirit of Holidays Message Party
DESCRIPTION:~~ HOT NEWS! ~~\nNow 8 Top Psychics at the Spirit of Holiday Party! \nThe Event of the Season! Get your Tickets HERE \n\n     5 Top Psychic Mediums\, 1 Holiday Evening\n\nMark your calender\, this is one event you don’t want to miss!\nCome celebrate the Spirit of the holidays with a warm welcome to all. At our fundraiser and holiday gala all guests will receive heartwarming and validating information from a top psychic medium. Enjoy food and wine\, and learn about upcoming news and events. \n Holiday Gala includes:\n\n\nSpirit Messages from 5 Top Psychic Mediums\n\n\nEveryone receives a personal message\n\n\nDinner Buffet\, Wine\, Desserts\n\n\nGift Baskets Raffle\n\n\nLive Music\, Gaiety\, and Fun\n\n\nParticipate in the Gift Basket Raffle!\n\nHelp Support The Spirit University by buying a raffle ticket for a gift basket from one of our sponsors!\n1 Ticket: $2\n3 Tickets: $5\n8 Tickets: $10\n Space is limited (we were at overflow capacity last year)\, so be sure to reserve your place early\nGET TICKETS Now!
URL:https://thespirituniversity.com/events/spirit-holidays-message-party/
LOCATION:Unity Church Fellowship Hall\, 3023 Proctor Rd\, Sarasota\, 34231
CATEGORIES:Mediumship
ORGANIZER;CN="Victoria Ackerman":MAILTO:Light@VictoriaAckerman.com
END:VEVENT
BEGIN:VEVENT
DTSTART;TZID=America/New_York:20151205T190000
DTEND;TZID=America/New_York:20151205T210000
DTSTAMP:20260421T032553
CREATED:20150601T215542Z
LAST-MODIFIED:20151201T020600Z
UID:10013343-1449342000-1449349200@thespirituniversity.com
SUMMARY:Spirit of Holidays Message Party
DESCRIPTION: \n5 Top Psychic Mediums\, 1 Holiday Evening\n\nMark your calender\, this is one event you don’t want to miss!\nCome celebrate the Spirit of the holidays with a warm welcome to all. At our fundraiser and holiday gala all guests will receive heartwarming and validating information from a top psychic medium. Enjoy food and wine\, and learn about upcoming news and events. \nLIVE MUSIC!  RSVP NOW!\n Holiday Gala includes:\n\n\nSpirit Messages from 5 Top Psychic Mediums\n\n\nEveryone receives a personal message\n\n\nDinner Buffet\, Wine\, Desserts\n\n\nGift Baskets Raffle\n\n\nLive Music\, Gaiety\, and Fun\n\n\nParticipate in the Gift Basket Raffle!\n\nHelp Support The Spirit University by buying a raffle ticket for a gift basket from one of our sponsors!\n1 Ticket: $2\n3 Tickets: $5\n8 Tickets: $10\n Space is limited (we were at overflow capacity last year)\, so be sure to reserve your place early\nRSVP Now!
URL:https://thespirituniversity.com/events/spirit-of-holidays-message-party-4/
LOCATION:Unity Church Fellowship Hall\, 3023 Proctor Rd\, Sarasota\, 34231
CATEGORIES:Mediumship
ORGANIZER;CN="Victoria Ackerman":MAILTO:Light@VictoriaAckerman.com
END:VEVENT
BEGIN:VEVENT
DTSTART;TZID=America/New_York:20141206T190000
DTEND;TZID=America/New_York:20141206T210000
DTSTAMP:20260421T032553
CREATED:20140326T223912Z
LAST-MODIFIED:20141203T162311Z
UID:10014489-1417892400-1417899600@thespirituniversity.com
SUMMARY:Spirit of Holidays Message Party
DESCRIPTION:5 Top Psychic Mediums\, 1 Holiday Evening!\n \nMark your calender\, this is one event you don’t want to miss!\nCome celebrate the Spirit of the holidays with a warm welcome to all. At our holiday gala all guests will receive heartwarming and validating information from a top psychic medium. Enjoy tasty food and learn about upcoming news and events. At Unity Fellowship Hall\, 3023 Proctor Rd\, Sarasota\, 34231.  \n\n\n \n.\nLIVE MUSIC! With BC Hathaway\n  \n\nGIFT BASKET RAFFLE\n\n.\nGET TICKETS!\n\n\nHoliday Gala includes:\nSpirit Messages from Top Psychic Mediums\nEveryone receives a personal message\nWine\, Food Buffet\, Desserts\nGift Baskets Raffle\nLive Music\, Gaiety\, and Fun \n\n\n\nParticipate in the Gift Basket Raffle!\n\nHelp Support The Spirit University by buying a raffle ticket for a gift basket from one of our sponsors!\n1 Ticket: $2\n3 Tickets: $5\n8 Tickets: $10\n20 Tickets: $20\nRSVP Now!
URL:https://thespirituniversity.com/events/spirit-of-holidays-message-party-3/
LOCATION:Unity Church Fellowship Hall\, 3023 Proctor Rd\, Sarasota\, 34231
CATEGORIES:Mediumship
ORGANIZER;CN="Victoria Ackerman":MAILTO:Light@VictoriaAckerman.com
END:VEVENT
BEGIN:VEVENT
DTSTART;TZID=America/New_York:20131207T190000
DTEND;TZID=America/New_York:20131207T210000
DTSTAMP:20260421T032553
CREATED:20130619T175208Z
LAST-MODIFIED:20131202T040953Z
UID:10014404-1386442800-1386450000@thespirituniversity.com
SUMMARY:Spirit of Holidays Message Party
DESCRIPTION:.\n5 Top Psychic Mediums\, 1 Holiday Evening\n \nMark your calender\, this is one event you don’t want to miss!\nCome celebrate the Spirit of the holidays with a warm welcome to all. At our fundraiser and holiday gala all guests will receive heartwarming and validating information from a top psychic medium. Enjoy tasty hors d’oeuvres and learn about upcoming news and events. \nLIVE MUSIC!  RSVP NOW!\n\n\n\nHoliday Gala Fundraiser includes:\n\n\nSpirit Messages from 5 Top Psychic Mediums\n\n\nEveryone receives a personal message\n\n\nWine\, Hors D’Oeuvres Buffet\, Desserts\n\n\nGift Baskets Raffle\n\n\nLive Music\, Gaiety\, and Fun\n\n\n.\nParticipate in the Gift Basket Raffle!\n\nHelp Support The Spirit University by buying a raffle ticket for a gift basket from one of our sponsors!\n1 Ticket: $2\n3 Tickets: $5\n8 Tickets: $10\n\nSpace is limited (we were at overflow capacity last year)\, so be sure to reserve your place early:\n\n\nGET TICKETS for Holiday Party Now!
URL:https://thespirituniversity.com/events/spirit-of-holidays-message-party-2/
LOCATION:Unity Church Fellowship Hall\, 3023 Proctor Rd\, Sarasota\, 34231
CATEGORIES:Mediumship
ORGANIZER;CN="Victoria Ackerman":MAILTO:Light@VictoriaAckerman.com
END:VEVENT
END:VCALENDAR